BEGIN:VCALENDAR
VERSION:2.0
PRODID:-//taunus4family - ECPv5.14.1//NONSGML v1.0//EN
CALSCALE:GREGORIAN
METHOD:PUBLISH
X-WR-CALNAME:taunus4family
X-ORIGINAL-URL:https://www.taunus4family.de
X-WR-CALDESC:Veranstaltungen für taunus4family
BEGIN:VTIMEZONE
TZID:Europe/Helsinki
BEGIN:DAYLIGHT
TZOFFSETFROM:+0200
TZOFFSETTO:+0300
TZNAME:EEST
DTSTART:20240331T010000
END:DAYLIGHT
BEGIN:STANDARD
TZOFFSETFROM:+0300
TZOFFSETTO:+0200
TZNAME:EET
DTSTART:20241027T010000
END:STANDARD
END:VTIMEZONE
BEGIN:VEVENT
DTSTART;TZID=Europe/Helsinki:20240316T150000
DTEND;TZID=Europe/Helsinki:20240316T180000
DTSTAMP:20260420T062941
CREATED:20231228T162142Z
LAST-MODIFIED:20231228T162517Z
UID:46809-1710601200-1710612000@www.taunus4family.de
SUMMARY:12. Kinder-und Jugendsachenbasar Sportkindergarten Nauheim
DESCRIPTION:Das Basarteam des Sportkindergarten veranstaltet seinen 12. Abgabebasar für Kinder-und Jugendsachen. Verkauft wird alles rund ums Kind und Jugendliche bis Größe 176 für Frühjahr und Sommer\, Spielzeug\, Bücher\, Babyerstausstattungen uvm.. \nAus Sicherheitsgründen dürfen keine Kinderwägen in der Halle mitgenommen werden. \nTermin\nSamstag\, 16.03.24 von 15 bis 18:00 Uhr (Schwangere und Mütter/Väter mit Kindern bis 6 Monate plus 1 Begleitperson Einlass schon um 14 Uhr)\, \nWeiterer Termin\nSonntag\, 17.03.24 von 9:30 bis 12 Uhr. \nMehr Infos ab Anfang März 2024\nNummervergabe NUR auf Basarlino ab 01.03.2024
URL:https://www.taunus4family.de/veranstaltung/12-kinder-und-jugendsachenbasar-sportkindergarten-nauheim/
LOCATION:Jahnhalle des TV Nauheim\, Am Sportfeld1\, 64569 Nauheim\, Am Sportfeld 1\, Nauheim\, 64569
CATEGORIES:Basare und Flohmärkte
ATTACH;FMTTYPE=image/jpeg:https://www.taunus4family.de/wp-content/uploads/2019/09/iStock-vtmila.jpg
ORGANIZER;CN="Basarteam%20Sportkindergarten":MAILTO:Sportkigabasar-nauheim@gmx.de
GEO:49.9490212;8.4475643
X-APPLE-STRUCTURED-LOCATION;VALUE=URI;X-ADDRESS=Jahnhalle des TV Nauheim Am Sportfeld1 64569 Nauheim Am Sportfeld 1 Nauheim 64569;X-APPLE-RADIUS=500;X-TITLE=Am Sportfeld 1:geo:8.4475643,49.9490212
END:VEVENT
END:VCALENDAR