BEGIN:VCALENDAR
VERSION:2.0
PRODID:-//taunus4family - ECPv5.14.1//NONSGML v1.0//EN
CALSCALE:GREGORIAN
METHOD:PUBLISH
X-WR-CALNAME:taunus4family
X-ORIGINAL-URL:https://www.taunus4family.de
X-WR-CALDESC:Veranstaltungen für taunus4family
BEGIN:VTIMEZONE
TZID:Europe/Helsinki
BEGIN:DAYLIGHT
TZOFFSETFROM:+0200
TZOFFSETTO:+0300
TZNAME:EEST
DTSTART:20240331T010000
END:DAYLIGHT
BEGIN:STANDARD
TZOFFSETFROM:+0300
TZOFFSETTO:+0200
TZNAME:EET
DTSTART:20241027T010000
END:STANDARD
BEGIN:DAYLIGHT
TZOFFSETFROM:+0200
TZOFFSETTO:+0300
TZNAME:EEST
DTSTART:20250330T010000
END:DAYLIGHT
BEGIN:STANDARD
TZOFFSETFROM:+0300
TZOFFSETTO:+0200
TZNAME:EET
DTSTART:20251026T010000
END:STANDARD
END:VTIMEZONE
BEGIN:VEVENT
DTSTART;VALUE=DATE:20241109
DTEND;VALUE=DATE:20250217
DTSTAMP:20260423T215406
CREATED:20241103T114901Z
LAST-MODIFIED:20241103T115832Z
UID:49610-1731110400-1739750399@www.taunus4family.de
SUMMARY:13. Winterwelt – Hofgut Laubenheimer Höhe
DESCRIPTION:Zugegeben\, es fehlen wie bereits in den vergangenen Jahren die Berge\, aber das wird auch dieses Jahr nicht weiter stören! Das Hofgut holt erneut den originalen Winterzauber von Mitte November bis Mitte Februar direkt vor die Tore von Mainz. Startet in die 13. Saison der Winterwelt auf dem Hofgut mit Eisbahn und 4 Panorama-Eisstockbahnen. \nAlle kleinen und großne Gäste können ab November 2024 wieder auf der höchsten Eisbahn im Rhein-Main-Gebiet ihre Bahnen ziehen – auf beeindruckenden 500 m² Eisfläche! Besuchen Sie die Winterwelt des Hofgut Laubenheimer Höhe\, atmen Sie frische Bergluft ein und genießen Sie eine wundervolle Zeit mit aromatischem Glühwein\, alkoholfreiem Punsch und köstlichen Schmankerln. \n  \nÖffnungszeiten \nDienstag – Freitag ab 14 Uhr\nSamstag und Sonntag ab 11 Uhr\nSamstags Eisdisco mit Musik ab 18 Uhr \nPreise\nKinder bis 12 Jahre 4 Euro\nErwachsene: 5 Euro\nLeihgebühr Schlittschuhe 6 Euro. \n 
URL:https://www.taunus4family.de/veranstaltung/13-winterwelt-hofgut-laubenheimer-hoehe/
LOCATION:Hofgut Laubenheimer Höhe\, Auf der Laubenheimer Höhe 1-3\, Mainz\, 55130\, Deutschland
CATEGORIES:Freizeit,Sport und Bewegung
ATTACH;FMTTYPE=image/jpeg:https://www.taunus4family.de/wp-content/uploads/2024/11/Laubenheimer-Hoehe.jpg
ORGANIZER;CN="Hofgut%20Laubenheimer%20H%C3%B6he":MAILTO:info@hofgut-laubenheimer-hoehe.de
GEO:49.9618512;8.302236
X-APPLE-STRUCTURED-LOCATION;VALUE=URI;X-ADDRESS=Hofgut Laubenheimer Höhe Auf der Laubenheimer Höhe 1-3 Mainz 55130 Deutschland;X-APPLE-RADIUS=500;X-TITLE=Auf der Laubenheimer Höhe 1-3:geo:8.302236,49.9618512
END:VEVENT
END:VCALENDAR