BEGIN:VCALENDAR
VERSION:2.0
PRODID:-//taunus4family - ECPv5.14.1//NONSGML v1.0//EN
CALSCALE:GREGORIAN
METHOD:PUBLISH
X-WR-CALNAME:taunus4family
X-ORIGINAL-URL:https://www.taunus4family.de
X-WR-CALDESC:Veranstaltungen für taunus4family
BEGIN:VTIMEZONE
TZID:Europe/Helsinki
BEGIN:DAYLIGHT
TZOFFSETFROM:+0200
TZOFFSETTO:+0300
TZNAME:EEST
DTSTART:20240331T010000
END:DAYLIGHT
BEGIN:STANDARD
TZOFFSETFROM:+0300
TZOFFSETTO:+0200
TZNAME:EET
DTSTART:20241027T010000
END:STANDARD
END:VTIMEZONE
BEGIN:VEVENT
DTSTART;VALUE=DATE:20240823
DTEND;VALUE=DATE:20240826
DTSTAMP:20260424T060200
CREATED:20240630T165640Z
LAST-MODIFIED:20240630T165640Z
UID:48614-1724371200-1724630399@www.taunus4family.de
SUMMARY:2. Internationales Karussell Festival
DESCRIPTION:Sommerferienabschluss im KULTURPARK SCHLACHTHOF\nVom 23. bis 25. August verwandelt sich der Kulturpark am Schlachthof in Wiesbaden zum zweiten Mal in eine zauberhafte Welt voller Karussell-Magie. Anstelle einer traditionellen Kirmes erwartet die Besucher*innen das 2. Internationale Karussell-Festival – ein unvergessliches Erlebnis für Menschen jeden Alters. Das Festival präsentiert neun (!) spektakuläre Karussells\, eine originalgetreue Dampfeisenbahn und zahlreiche Attraktionen aus aller Welt. Es bietet eine abwechslungsreiche Unterhaltung mit Straßentheater aus Ländern wie Frankreich\, Belgien\, den Niederlanden\, der Schweiz und Deutschland. \nMusik\, kulinarische Leckereien wie Pommes Frites und süße Zuckerwatte sowie beeindruckende Aussichtstürme stehen bereit\, um uns zu begeistern. Doch das ist noch nicht alles: Freuen Sie sich auf ein 14 Meter hohes Etagenkarussell\, fliegende Teppiche\, Wolkenreisen\, die charmanten Jos & Maria\, eine Fahrraddisco\, die „KlötzchenWelt“\, den Kaosclown\, Riesenseifenblasen\, 20 entlaufene Schiebetiere\, 320 Kilogramm Stehaufmännchen\, Zauberer und vieles mehr! Hereinspaziert und erleben Sie die magische Atmosphäre! \n  \nTagesticket für alle Fahrgeschäfte kosten pro Person 10\,- € / ermäßigt 5\,- € hier.\nDer Eintritt ist frei.
URL:https://www.taunus4family.de/veranstaltung/2-internationales-karussell-festival/
LOCATION:Kulturpark Wiesbaden\, Murnaustraße 1\, Wiesbaden\, 65189\, Deutschland
CATEGORIES:Freizeit
ATTACH;FMTTYPE=image/jpeg:https://www.taunus4family.de/wp-content/uploads/2024/06/Unbenannt-3.jpg
ORGANIZER;CN="Kulturzentrum%20Schlachthof%20Wiesbaden%20e.V.":MAILTO:info@schlachthof-wiesbaden.de
GEO:50.0668212;8.2470643
X-APPLE-STRUCTURED-LOCATION;VALUE=URI;X-ADDRESS=Kulturpark Wiesbaden Murnaustraße 1 Wiesbaden 65189 Deutschland;X-APPLE-RADIUS=500;X-TITLE=Murnaustraße 1:geo:8.2470643,50.0668212
END:VEVENT
END:VCALENDAR