BEGIN:VCALENDAR
VERSION:2.0
PRODID:-//taunus4family - ECPv5.14.1//NONSGML v1.0//EN
CALSCALE:GREGORIAN
METHOD:PUBLISH
X-WR-CALNAME:taunus4family
X-ORIGINAL-URL:https://www.taunus4family.de
X-WR-CALDESC:Veranstaltungen für taunus4family
BEGIN:VTIMEZONE
TZID:Europe/Helsinki
BEGIN:DAYLIGHT
TZOFFSETFROM:+0200
TZOFFSETTO:+0300
TZNAME:EEST
DTSTART:20250330T010000
END:DAYLIGHT
BEGIN:STANDARD
TZOFFSETFROM:+0300
TZOFFSETTO:+0200
TZNAME:EET
DTSTART:20251026T010000
END:STANDARD
END:VTIMEZONE
BEGIN:VEVENT
DTSTART;TZID=Europe/Helsinki:20250809T140000
DTEND;TZID=Europe/Helsinki:20250809T235500
DTSTAMP:20260422T045756
CREATED:20250720T120114Z
LAST-MODIFIED:20250809T120642Z
UID:51705-1754748000-1754783700@www.taunus4family.de
SUMMARY:20 Jahre Rock auf der Burg – Königstein feiert ein episches Jubiläum
DESCRIPTION:Königstein wird wieder zum Mekka der Rockmusik\nAm 9. August 2025 kehrt das beliebte Eintagesfestival „Rock auf der Burg“ in voller Pracht zurück\, um sein 20-jähriges Bestehen gebührend zu feiern. Die imposanten Mauern der Burgruine Königstein bilden die Kulisse für ein musikalisches Spektakel\, das Rockfans aus nah und fern begeistern wird. \nDas Line-up verspricht Spitzenklasse: 13 herausragende Bands auf zwei Bühnen sorgen für ein unvergessliches Konzerterlebnis. \n\n\nMainstage-Headliner: From Fall To Spring – aktuell eine der angesagtesten Rockbands Deutschlands\, bekannt für mitreißende Energie und kraftvolle Liveshows. \n\n\nKellerstage-Headliner: Accvsed – die Meister der harten Töne\, die den „Hellen Bogen“ in ihr Revier verwandeln. \n\n\nAls besonderer Höhepunkt rocken die urzeitlichen Musikdinos Heavysaurus die Bühne – ein garantierter Spaß für Groß und Klein. \nWeitere Acts: Flash Forward\, Attic Stories\, Grell\, Friends Don’t Lie\, Monashee\, Tag My Heart\, Altered Rebirth\, Damage Case und Alexis In Texas. Jeder Künstler bringt seine eigene Mischung aus Leidenschaft\, Sound und beeindruckender Bühnenpräsenz mit – für ein Festivalerlebnis\, das seinesgleichen sucht. \nDie Rock AG e.V.\, Veranstalter des Events\, blickt stolz auf zwei Jahrzehnte Festivalgeschichte zurück – und hat für das Jubiläum sicher noch die eine oder andere Überraschung in petto. \n  \nTickets \nVorverkauf (VVK):\n38 Euro (zzgl. Service Gebühr) \nTageskasse (bzw. Abendkasse):\n45 Euro\nunter 18 Jahre: 20 Euro\nunter 10 Jahre: 10 Euro\nBesucher mit Schwerbehindertenausweis Merkzeichen B bekommen für sich und ihre Begleitung freien Eintritt.\nTickets für Jugendliche und Kinder können nur an der Tageskasse/Abendkasse erworben werden.\nEin Kontingent an Tickets wird extra dafür zurückgehalten. \nJETZT NEU: Tickets für Kinder und Jugendliche (sowie natürlich auch für Erwachsene) können ab sofort bis einschließlich 9. August\, 15 Uhr in der Kur- und Stadtinformation in Königstein erworben werden.\nKur- und Stadtinformation Königstein \nOnline: https://www.reservix.de/tickets-rock-auf-der-burg/t18941
URL:https://www.taunus4family.de/veranstaltung/20-jahre-rock-auf-der-burg-koenigstein-feiert-ein-episches-jubilaeum/
LOCATION:Burgruine Königstein\, Burgweg\, Königstein im Taunus\, 61462\, Deutschland
CATEGORIES:Musik und Konzerte
ATTACH;FMTTYPE=image/jpeg:https://www.taunus4family.de/wp-content/uploads/2025/08/Screenshot-2025-08-09-140036.jpg
ORGANIZER;CN="Magistrat%20der%20Stadt%20K%C3%B6nigstein":MAILTO:info@koenigstein.de
GEO:50.1823112;8.4631879
X-APPLE-STRUCTURED-LOCATION;VALUE=URI;X-ADDRESS=Burgruine Königstein Burgweg Königstein im Taunus 61462 Deutschland;X-APPLE-RADIUS=500;X-TITLE=Burgweg:geo:8.4631879,50.1823112
END:VEVENT
END:VCALENDAR