BEGIN:VCALENDAR
VERSION:2.0
PRODID:-//taunus4family - ECPv5.14.1//NONSGML v1.0//EN
CALSCALE:GREGORIAN
METHOD:PUBLISH
X-WR-CALNAME:taunus4family
X-ORIGINAL-URL:https://www.taunus4family.de
X-WR-CALDESC:Veranstaltungen für taunus4family
BEGIN:VTIMEZONE
TZID:Europe/Helsinki
BEGIN:DAYLIGHT
TZOFFSETFROM:+0200
TZOFFSETTO:+0300
TZNAME:EEST
DTSTART:20240331T010000
END:DAYLIGHT
BEGIN:STANDARD
TZOFFSETFROM:+0300
TZOFFSETTO:+0200
TZNAME:EET
DTSTART:20241027T010000
END:STANDARD
END:VTIMEZONE
BEGIN:VEVENT
DTSTART;TZID=Europe/Helsinki:20240511T110000
DTEND;TZID=Europe/Helsinki:20240512T230000
DTSTAMP:20260420T062443
CREATED:20250325T130506Z
LAST-MODIFIED:20250316T150253Z
UID:44059-1715425200-1715554800@www.taunus4family.de
SUMMARY:25. Königsteiner Ritterturnier
DESCRIPTION:Großes Spektakulum auf Burgruine Königstein\nTraditionsgemäß öffnen die Ritter von Königstein am Wochenende nach Himmelfahrt ein Portal zu längst vergangenen Zeiten und entführen ihre Gäste in die faszinierende Welt des Mittelalters. In dieser scheinbar anderen Welt schlendern die Besucher über den mittelalterlichen Markt\, erfreuen sich an den prächtigen Auslagen der Händler\, staunen über die Geschicklichkeit der Gaukler\, lauschen den Klängen der Spielleute und lassen sich vom spektakulären Turnier der Württemberger Ritter hoch zu Ross mit Schwert und Lanze begeistern. \nFür die Kleinen gibt es vielfältige Kinderattraktionen\, wie das Kinder-Ritterturnier und die Kinder-Bogenbahn. Unumstrittener Höhepunkt ist das ritterliche Turnier mit der Lanze zu Pferde um Ruhm und Ehre. \nSamstag\, 31. Mai 2025 (11:00 bis 23:00 Uhr)\n12:00 Uhr – Feierliche Markteröffnung im Innenhof\n15:00 Uhr – Ritterturnier mit Besucher-Kindern aus dem Publikum als helfende Knappen\n21:00 Uhr – Nachtturnier im Fackelschein \nSonntag\, 01. Juni 2025 (11:00 bis 18:00 Uhr)\n12:30 Uhr – Ritterturnier\n16:00 Uhr – Ritterturnier \nAn allen Tagen: Mittelalterlicher Markt\, Musik\, Gauklerei und Lagerleben! \nTageskarten Eintrittspreise\nErwachsene: 12\,00 Euro\nKinder (bis 16 Jahren\, Einlass nur in Begleitung Erwachsener): frei\nJugendliche ab 16 Jahren: 6\,00 Euro\nMittelalterlich Gewandete zahlen den halben Preis\n100%-Schwerbehinderte: frei \nKarten gibt es an der Tageskasse am Burgtor oder zeitnah in der Kur- und Stadtinformation Königstein. \nLaut Magistratsbeschluss der Stadt Königstein sind Hunde auf der Burg leider nicht gestattet
URL:https://www.taunus4family.de/veranstaltung/24-koenigsteiner-ritterturnier/
LOCATION:Burgruine Königstein\, Burgweg\, Königstein im Taunus\, 61462\, Deutschland
CATEGORIES:Feste und Märkte
ATTACH;FMTTYPE=image/jpeg:https://www.taunus4family.de/wp-content/uploads/2023/03/Ritter-Anke-Dyhringer.jpg
ORGANIZER;CN="Ritter%20von%20K%C3%B6nigstein%20e.V.":MAILTO:info@rittervonkoenigstein.de
GEO:50.1823112;8.4631879
X-APPLE-STRUCTURED-LOCATION;VALUE=URI;X-ADDRESS=Burgruine Königstein Burgweg Königstein im Taunus 61462 Deutschland;X-APPLE-RADIUS=500;X-TITLE=Burgweg:geo:8.4631879,50.1823112
END:VEVENT
END:VCALENDAR