BEGIN:VCALENDAR
VERSION:2.0
PRODID:-//taunus4family - ECPv5.14.1//NONSGML v1.0//EN
CALSCALE:GREGORIAN
METHOD:PUBLISH
X-WR-CALNAME:taunus4family
X-ORIGINAL-URL:https://www.taunus4family.de
X-WR-CALDESC:Veranstaltungen für taunus4family
BEGIN:VTIMEZONE
TZID:Europe/Helsinki
BEGIN:DAYLIGHT
TZOFFSETFROM:+0200
TZOFFSETTO:+0300
TZNAME:EEST
DTSTART:20250330T010000
END:DAYLIGHT
BEGIN:STANDARD
TZOFFSETFROM:+0300
TZOFFSETTO:+0200
TZNAME:EET
DTSTART:20251026T010000
END:STANDARD
END:VTIMEZONE
BEGIN:VEVENT
DTSTART;VALUE=DATE:20250306
DTEND;VALUE=DATE:20250318
DTSTAMP:20260423T093730
CREATED:20250304T121743Z
LAST-MODIFIED:20260219T150310Z
UID:50401-1741219200-1742255999@www.taunus4family.de
SUMMARY:31. Internationales Theaterfestival "Starke Stücke"
DESCRIPTION:Es ist Familienzeit bei „Starke Stücke“!\nSeit 1994 bringt das internationale Theaterfestival „Starke Stücke“ herausragendes Theater für junges Publikum in die Rhein-Main-Region. Gezeigt werden mitreißende\, bewegende und faszinierende Inszenierungen aus aller Welt – eben echte „Starke Stücke“!\nFreut euch auf 19 eindrucksvolle Inszenierungen aus elf Ländern! An 37 Spielorten erwartet euch ein vielseitiges Programm – von Erzähl- und Objekttheater über Akrobatik und Tanz bis hin zu multimedialen Performances und interaktiven Installationen. \nAn den Nachmittagen und Festivalwochenenden gibt es Mitmach-Angebote für die ganze Familie: kreative Workshops\, spielerische Einblicke in die Stücke und gemeinsame Abenteuer rund ums Theater. Genießt die Atmosphäre bei Kaffee\, Saft und Kuchen und lasst euch überraschen! \nFamilienvorstellungen lassen sich im Programm filtern und frei buchen. Die Teilnahme an den Mitmach-Angeboten ist kostenlos\, Tickets für die Theaterstücke sind separat erhältlich. \nMehr Infos dazu und zum Programm hier!
URL:https://www.taunus4family.de/veranstaltung/31-internationales-theaterfestival-starke-stuecke/
LOCATION:Frankfurt-Rhein-Main\, Deutschland
CATEGORIES:Feste und Märkte,Kunst und Kultur
ATTACH;FMTTYPE=image/jpeg:https://www.taunus4family.de/wp-content/uploads/2025/03/Unbenannt-1.jpg
ORGANIZER;CN="KulturRegion%20FrankfurtRheinMain%20gGmbH":MAILTO:info@krfrm.de
END:VEVENT
END:VCALENDAR