BEGIN:VCALENDAR
VERSION:2.0
PRODID:-//taunus4family - ECPv5.14.1//NONSGML v1.0//EN
CALSCALE:GREGORIAN
METHOD:PUBLISH
X-WR-CALNAME:taunus4family
X-ORIGINAL-URL:https://www.taunus4family.de
X-WR-CALDESC:Veranstaltungen für taunus4family
BEGIN:VTIMEZONE
TZID:Europe/Helsinki
BEGIN:DAYLIGHT
TZOFFSETFROM:+0200
TZOFFSETTO:+0300
TZNAME:EEST
DTSTART:20240331T010000
END:DAYLIGHT
BEGIN:STANDARD
TZOFFSETFROM:+0300
TZOFFSETTO:+0200
TZNAME:EET
DTSTART:20241027T010000
END:STANDARD
END:VTIMEZONE
BEGIN:VEVENT
DTSTART;VALUE=DATE:20240823
DTEND;VALUE=DATE:20240826
DTSTAMP:20260424T041550
CREATED:20240726T154606Z
LAST-MODIFIED:20240726T155547Z
UID:48785-1724371200-1724630399@www.taunus4family.de
SUMMARY:52. Burgfest des Burgvereins Eppstein
DESCRIPTION:Burg Eppstein über der Altstadt ist mit ihren imposanten Befestigungsanlagen als gut erhaltenes Verteidigungssystem des 14. und 15. Jahrhunderts erlebbar. Eindrucksvoll präsentiert sich der einstige Adelssitz als Machtsymbol der Herren von Eppstein\, die im 13. Jahrhundert als Mainzer Erzbischöfe die Reichspolitik mitbestimmten. Der Blick vom mächtigen Bergfried macht die Historie spürbar. \nIm Rahmen des Burgfestes wird am Sonntag\, 25. August  von 11 – 17 Uhr der Familientag mit Jazz-Frühschoppen und Ritterlager gefeiert! \nProgramm für kleine Ritter und Prinzessinnen zum Mitmachen und Zugucken\, Museumsbesuch\, Kulinarisches und Musikalisches: Ab 11 Uhr spielt die Hot Four Creole Jazzband und nachmittags die Big Band Hofheim. Historisches Kasperletheater im Altangarten: Aufführung der Eppsteiner Sage um Ritter Eppo und die schöne Berta um 14 und 15 Uhr. \nPreise\nErwachsene 3 Euro\nKinder 1\,50 Euro (es zahlt nur ein Kind\, gültig auch für Sonntag) \n 
URL:https://www.taunus4family.de/veranstaltung/52-burgfest-des-burgvereins-eppstein/
LOCATION:Burg Eppstein\, Auf der Burg\, Eppstein\, 65817 \, Deutschland
CATEGORIES:Feste und Märkte
ATTACH;FMTTYPE=image/jpeg:https://www.taunus4family.de/wp-content/uploads/2017/03/Eppstein_Burg.jpg
ORGANIZER;CN="Burgverein%20Eppstein%20e.V.":MAILTO:burgverein-eppstein@t-online.de
GEO:50.1404111;8.3929271
X-APPLE-STRUCTURED-LOCATION;VALUE=URI;X-ADDRESS=Burg Eppstein Auf der Burg Eppstein 65817  Deutschland;X-APPLE-RADIUS=500;X-TITLE=Auf der Burg:geo:8.3929271,50.1404111
END:VEVENT
END:VCALENDAR