BEGIN:VCALENDAR
VERSION:2.0
PRODID:-//taunus4family - ECPv5.14.1//NONSGML v1.0//EN
CALSCALE:GREGORIAN
METHOD:PUBLISH
X-WR-CALNAME:taunus4family
X-ORIGINAL-URL:https://www.taunus4family.de
X-WR-CALDESC:Veranstaltungen für taunus4family
BEGIN:VTIMEZONE
TZID:Europe/Helsinki
BEGIN:DAYLIGHT
TZOFFSETFROM:+0200
TZOFFSETTO:+0300
TZNAME:EEST
DTSTART:20250330T010000
END:DAYLIGHT
BEGIN:STANDARD
TZOFFSETFROM:+0300
TZOFFSETTO:+0200
TZNAME:EET
DTSTART:20251026T010000
END:STANDARD
END:VTIMEZONE
BEGIN:VEVENT
DTSTART;VALUE=DATE:20250829
DTEND;VALUE=DATE:20250901
DTSTAMP:20260421T215404
CREATED:20250724T152719Z
LAST-MODIFIED:20250724T153135Z
UID:51577-1756425600-1756684799@www.taunus4family.de
SUMMARY:53. Burgfest des Burgvereins Eppstein
DESCRIPTION:Vom 29. bis 31. August 2025 lädt der Burgverein Eppstein zum 53. Burgfest ein – ein stimmungsvolles Wochenende voller Musik\, Geschichte und Gemeinschaft auf einer der schönsten Burgen im Taunus. \nDen Auftakt macht am Freitagabend ein historischer Vortrag in der Kemenate der Burg\, der kostenfrei besucht werden kann – Spenden zur Unterstützung des Vereins sind willkommen. \nAm Samstagabend verwandelt sich die Burg in ein atmosphärisches Festgelände: Livemusik unter dem Motto „Old meets New“\, ein mittelalterliches Landsknechtslager und kulinarische Angebote an Wein-\, Sekt- und Cocktailbar sorgen für ein vielseitiges Erlebnis. Der „Container Cube“ im Burggraben wird zur DJ-Bar mit Burgblick. \nAm Sonntag folgt der große Familien- und Kulturtag. Bereits ab 9 Uhr startet der beliebte Kinderflohmarkt in der Wooganlage. Ab 11 Uhr gibt es ein buntes Programm mit Jazzfrühschoppen (Hot Four Creole Jazzband)\, einem Ritterlager zum Mitmachen\, einem historischen Kasperletheater („Ritter Eppo & Bertha“) und der feierlichen Krönung des neuen Burgfräuleins. Zum Abschluss spielt die Big Band Hofheim auf der Burgbühne. Auch hier beträgt der Eintritt 3 Euro für Erwachsene und 1\,50 Euro für Kinder. \n\nDie Anreise ist mit der Bahn (S2 Richtung Niedernhausen\, Haltestelle Eppstein) oder mit dem Auto über die A3\, A66 oder B455 möglich. Parkplätze befinden sich in Bahnhofsnähe; die direkte Zufahrt zur Burg ist nicht gestattet. Der Ticketverkauf erfolgt ausschließlich vor Ort – Barzahlung erforderlich. \nPreise\nErwachsene 5 Euro\nKinder 2\,50 Euro; ein Familienticket (inkl. eines Kindes) ist ebenfalls erhältlich. \nAn der Abendkasse nur Barzahlung möglich\, Karten an der Abendkasse.
URL:https://www.taunus4family.de/veranstaltung/53-burgfest-des-burgvereins-eppstein/
LOCATION:Burg Eppstein\, Auf der Burg\, Eppstein\, 65817 \, Deutschland
CATEGORIES:Feste und Märkte
ATTACH;FMTTYPE=image/jpeg:https://www.taunus4family.de/wp-content/uploads/2017/03/Eppstein_Burg.jpg
ORGANIZER;CN="Burgverein%20Eppstein%20e.V.":MAILTO:burgverein-eppstein@t-online.de
GEO:50.1404111;8.3929271
X-APPLE-STRUCTURED-LOCATION;VALUE=URI;X-ADDRESS=Burg Eppstein Auf der Burg Eppstein 65817  Deutschland;X-APPLE-RADIUS=500;X-TITLE=Auf der Burg:geo:8.3929271,50.1404111
END:VEVENT
END:VCALENDAR