BEGIN:VCALENDAR
VERSION:2.0
PRODID:-//taunus4family - ECPv5.14.1//NONSGML v1.0//EN
CALSCALE:GREGORIAN
METHOD:PUBLISH
X-WR-CALNAME:taunus4family
X-ORIGINAL-URL:https://www.taunus4family.de
X-WR-CALDESC:Veranstaltungen für taunus4family
BEGIN:VTIMEZONE
TZID:Europe/Helsinki
BEGIN:DAYLIGHT
TZOFFSETFROM:+0200
TZOFFSETTO:+0300
TZNAME:EEST
DTSTART:20240331T010000
END:DAYLIGHT
BEGIN:STANDARD
TZOFFSETFROM:+0300
TZOFFSETTO:+0200
TZNAME:EET
DTSTART:20241027T010000
END:STANDARD
END:VTIMEZONE
BEGIN:VEVENT
DTSTART;TZID=Europe/Helsinki:20240908T110000
DTEND;TZID=Europe/Helsinki:20240908T180000
DTSTAMP:20260424T162211
CREATED:20240904T092625Z
LAST-MODIFIED:20240904T093422Z
UID:49067-1725793200-1725818400@www.taunus4family.de
SUMMARY:6. TaunusSoul - Kunst\, Handwerk und Kultur
DESCRIPTION:Rund ums Gagernhaus in Kelkheim-Hornau\nAm 08. September findet der große TaunusSoul Kunst- und Handwerkermarkt rund um das Gagernhaus in Hornau statt. In der historischen Rotlintallee erwartet Sie von 11 bis 18 Uhr ein vielfältiges Kulturfestival mit Kunst\, Musik\, Straßentheater und kulinarischen Genüssen. Über 40 Kunsthandwerker und Künstler aus der Region präsentieren einzigartige Werke aus Textil\, Holz\, Malerei und vielem mehr. Zusätzlich locken kreative Workshops und Mitmachangebote\, wie das Verzieren von Maccarons. Das Straßentheater „Kira & Anders“ begeistert mit einer Mischung aus Akrobatik und Poesie\, und an verschiedenen Orten sorgt Live-Musik für besondere Momente. \nMehr Informationen und Details hier!
URL:https://www.taunus4family.de/veranstaltung/6-taunussoul-kunst-handwerk-und-kultur/
LOCATION:Rund um’s Alte Rathaus in Kelkheim-Münster\, Frankfurter Str. 153\, Kelkheim\, 65779
CATEGORIES:Kunst und Kultur
ATTACH;FMTTYPE=image/jpeg:https://www.taunus4family.de/wp-content/uploads/2022/09/Foto-Collage-Web_.jpg
ORGANIZER;CN="Kulturgemeinde%20Kelkheim%20e.V.":MAILTO:kulturgemeinde@gmx.de
GEO:50.1268001;8.463238
X-APPLE-STRUCTURED-LOCATION;VALUE=URI;X-ADDRESS=Rund um’s Alte Rathaus in Kelkheim-Münster Frankfurter Str. 153 Kelkheim 65779;X-APPLE-RADIUS=500;X-TITLE=Frankfurter Str. 153:geo:8.463238,50.1268001
END:VEVENT
END:VCALENDAR