BEGIN:VCALENDAR
VERSION:2.0
PRODID:-//taunus4family - ECPv5.14.1//NONSGML v1.0//EN
CALSCALE:GREGORIAN
METHOD:PUBLISH
X-WR-CALNAME:taunus4family
X-ORIGINAL-URL:https://www.taunus4family.de
X-WR-CALDESC:Veranstaltungen für taunus4family
BEGIN:VTIMEZONE
TZID:Europe/Helsinki
BEGIN:DAYLIGHT
TZOFFSETFROM:+0200
TZOFFSETTO:+0300
TZNAME:EEST
DTSTART:20240331T010000
END:DAYLIGHT
BEGIN:STANDARD
TZOFFSETFROM:+0300
TZOFFSETTO:+0200
TZNAME:EET
DTSTART:20241027T010000
END:STANDARD
END:VTIMEZONE
BEGIN:VEVENT
DTSTART;VALUE=DATE:20240824
DTEND;VALUE=DATE:20240826
DTSTAMP:20260424T003108
CREATED:20240726T160410Z
LAST-MODIFIED:20240726T160410Z
UID:48789-1724457600-1724630399@www.taunus4family.de
SUMMARY:8. Familien-Camping-Nacht
DESCRIPTION:Das besondere Abenteuer\nÜbernachtet im eigenen Zelt\, inkl. Grillstation und Baden bis 22:00 Uhr! Erlebt die Nacht im Freibad unter freiem Himmel! \nPackt Euer Zelt\, Schlafsack und die Badehose ein und genießt eine unvergessliche Nacht mit Freunden oder Familie. Schwimmen bei Sonnenuntergang\, Grillen unter den Sternen und am Morgen ein erfrischender Sprung ins Wasser – ein einzigartiges Erlebnis wartet auf Sie! \nFrühstücksangebot gegen Aufpreis\,\nMit Anmeldung* (bis 14 Jahre) an richard.vanrijn@bad-schwalbach.de
URL:https://www.taunus4family.de/veranstaltung/8-familien-camping-nacht/
LOCATION:Freibad Bad Schwalbach\, Heimbacher Straße 9\, Bad Schwalbach\, 65307\, Deutschland
CATEGORIES:Freizeit
ATTACH;FMTTYPE=image/jpeg:https://www.taunus4family.de/wp-content/uploads/2024/07/Screenshot-2024-07-26-180253.jpg
ORGANIZER;CN="Magistrat%20Stadt%20Bad%20Schwalbach":MAILTO:stadt@bad-schwalbach.de
GEO:50.1491804;8.0709293
X-APPLE-STRUCTURED-LOCATION;VALUE=URI;X-ADDRESS=Freibad Bad Schwalbach Heimbacher Straße 9 Bad Schwalbach 65307 Deutschland;X-APPLE-RADIUS=500;X-TITLE=Heimbacher Straße 9:geo:8.0709293,50.1491804
END:VEVENT
END:VCALENDAR