BEGIN:VCALENDAR
VERSION:2.0
PRODID:-//taunus4family - ECPv5.14.1//NONSGML v1.0//EN
CALSCALE:GREGORIAN
METHOD:PUBLISH
X-WR-CALNAME:taunus4family
X-ORIGINAL-URL:https://www.taunus4family.de
X-WR-CALDESC:Veranstaltungen für taunus4family
BEGIN:VTIMEZONE
TZID:Europe/Helsinki
BEGIN:DAYLIGHT
TZOFFSETFROM:+0200
TZOFFSETTO:+0300
TZNAME:EEST
DTSTART:20240331T010000
END:DAYLIGHT
BEGIN:STANDARD
TZOFFSETFROM:+0300
TZOFFSETTO:+0200
TZNAME:EET
DTSTART:20241027T010000
END:STANDARD
END:VTIMEZONE
BEGIN:VEVENT
DTSTART;TZID=Europe/Helsinki:20240907T130000
DTEND;TZID=Europe/Helsinki:20240907T190000
DTSTAMP:20260424T111915
CREATED:20240327T184633Z
LAST-MODIFIED:20240729T192553Z
UID:47905-1725714000-1725735600@www.taunus4family.de
SUMMARY:9. Feldberg Heli-Event
DESCRIPTION:Abheben direkt vom Gipfel!\nGenießen Sie ein grandioses Panorama und die absolute Freiheit in der Luft\nAm ersten Samstag im September 2024\, dem 7. September\, laden wir Sie herzlich ein\, Teil des einzigartigen Erlebnisses „Abheben direkt vom Gipfel“ zu sein. \nMit dem Helikopter starten wir vom Plateau des Großen Feldbergs zu Rundflügen Richtung Skyline Downtown Frankfurt. Genießen Sie dieses außergewöhnliche Abenteuer in luftiger Höhe\, während Sie die atemberaubende Aussicht erleben. Mit insgesamt 96 Passagieren\, aufgeteilt in 4 Passagiere pro Turn\, bieten wir Ihnen die Möglichkeit\, an diesem exklusiven Event teilzunehmen. \nSichern Sie sich jetzt Ihr Flugticket für einen Startpunkt in 881 Metern über dem Meeresspiegel und erleben Sie Frankfurt aus einer neuen Perspektive! \n\nSektempfang für unsere Fluggäste\n\n\nWir verwöhnen unsere Fluggäste vor oder/und nach dem Rundflug mit einem kleinen Sektempfang\, kühlen Getränken und Kaffee. \n\n\n  \nDie reguläre Flugroute verläuft vom Feldberg über die Burgstädte Königstein und Kronberg in Richtung Skyline Frankfurt und mit Blick auf Oberursel wieder zurück zum Feldberg. \nDie Flugzeit beträgt pro Turn 10 Minuten. \nBei Buchung einer voll besetzten Maschine\, (4 Passagierplätze)\, können Sie Ihre Flugroute ganz individuell selbst bestimmen. \nAuch Ihre Flugzeit können Sie z.B. auf 15 oder 20 Minuten verlängern. \nOster-Angebot bis 1. April 2024:\nCopilotenplatz € 220\,-\nFensterplatz rechts oder links € 195\,-\nMittelplatz € 145\,- \n\n\n  \n\nMehr Info und Anmeldung hier!
URL:https://www.taunus4family.de/veranstaltung/9-feldberg-heli-event/
LOCATION:61389 Schmitten\, Wiesenau 10\, Schmitten\, 61389\, Deutschland
CATEGORIES:Freizeit
ATTACH;FMTTYPE=image/jpeg:https://www.taunus4family.de/wp-content/uploads/2024/03/Unbenannt-9.jpg
ORGANIZER;CN="thomsen%20Heli-Service":MAILTO:info@thomsen-heli.com
GEO:50.2454697;8.4312794
X-APPLE-STRUCTURED-LOCATION;VALUE=URI;X-ADDRESS=61389 Schmitten Wiesenau 10 Schmitten 61389 Deutschland;X-APPLE-RADIUS=500;X-TITLE=Wiesenau 10:geo:8.4312794,50.2454697
END:VEVENT
END:VCALENDAR