BEGIN:VCALENDAR
VERSION:2.0
PRODID:-//taunus4family - ECPv5.14.1//NONSGML v1.0//EN
CALSCALE:GREGORIAN
METHOD:PUBLISH
X-WR-CALNAME:taunus4family
X-ORIGINAL-URL:https://www.taunus4family.de
X-WR-CALDESC:Veranstaltungen für taunus4family
BEGIN:VTIMEZONE
TZID:Europe/Helsinki
BEGIN:DAYLIGHT
TZOFFSETFROM:+0200
TZOFFSETTO:+0300
TZNAME:EEST
DTSTART:20250330T010000
END:DAYLIGHT
BEGIN:STANDARD
TZOFFSETFROM:+0300
TZOFFSETTO:+0200
TZNAME:EET
DTSTART:20251026T010000
END:STANDARD
END:VTIMEZONE
BEGIN:VEVENT
DTSTART;TZID=Europe/Helsinki:20250517T093000
DTEND;TZID=Europe/Helsinki:20250517T120000
DTSTAMP:20260422T083044
CREATED:20250329T090322Z
LAST-MODIFIED:20250329T090322Z
UID:50707-1747474200-1747483200@www.taunus4family.de
SUMMARY:Abgabe-Basar „RUND UMS KIND“
DESCRIPTION:Gutsortierter Abgabebasar für Baby- und Kleinkinderkleidung Gr. 50-176\, Schuhe\, Umstandsmode\, Spielzeug und Kinderzubehör\nDie Nummernvergabe ist am Donnerstag\, den 24.04.25\, ab 07:00 Uhr unter dieser Mailanschrift! (basar.vogelnest@web.de) In den darauffolgenden Tagen erhalten Sie von uns eine Antwortmail mit den ganz genauen Basarbedingungen (grob: 50 Teile Kleidung!!! Zuzüglich 50 Teile Spielsachen\, Bücher etc.) oder eventuell einer Absage! Etikettenvergabe\nGebühren: 4€ plus 10% Provision vom Verkaufserlös\nSchwangeren- und Neugeborenenvorabverkauf (8 Wochen) ab 09:00 Uhr (Mutterpaß-vorlage)- eigene Einkaufstaschen NICHT erlaubt!\nEin schöner Abgabebasar am Samstagvormittag – fürs leibliche Wohl ist gesorgt!!!
URL:https://www.taunus4family.de/veranstaltung/abgabe-basar-rund-ums-kind/
LOCATION:Ev. Gemeindehaus\, Immanuel-Kant-Strasse 10\, Kriftel\, 65830
CATEGORIES:Basare und Flohmärkte
ATTACH;FMTTYPE=image/png:https://www.taunus4family.de/wp-content/uploads/2025/03/Screenshot-2025-03-29-100151.png
ORGANIZER;CN="F%26ouml%3Brderverein%20Kindergarten%20Vogelnest":MAILTO:basar.vogelnest@web.de
END:VEVENT
END:VCALENDAR