BEGIN:VCALENDAR
VERSION:2.0
PRODID:-//taunus4family - ECPv5.14.1//NONSGML v1.0//EN
CALSCALE:GREGORIAN
METHOD:PUBLISH
X-WR-CALNAME:taunus4family
X-ORIGINAL-URL:https://www.taunus4family.de
X-WR-CALDESC:Veranstaltungen für taunus4family
BEGIN:VTIMEZONE
TZID:Europe/Helsinki
BEGIN:DAYLIGHT
TZOFFSETFROM:+0200
TZOFFSETTO:+0300
TZNAME:EEST
DTSTART:20250330T010000
END:DAYLIGHT
BEGIN:STANDARD
TZOFFSETFROM:+0300
TZOFFSETTO:+0200
TZNAME:EET
DTSTART:20251026T010000
END:STANDARD
END:VTIMEZONE
BEGIN:VEVENT
DTSTART;TZID=Europe/Helsinki:20250215T110000
DTEND;TZID=Europe/Helsinki:20250215T130000
DTSTAMP:20260424T225654
CREATED:20250104T160750Z
LAST-MODIFIED:20250104T160750Z
UID:49890-1739617200-1739624400@www.taunus4family.de
SUMMARY:Abgabebasar "Alles rund ums Kind" in Langenhain
DESCRIPTION:Es wird alles Rund ums Kind angeboten\, z.B. Kinderkleidung (Gr. 50 – 164)\, Spilezeug\, Kinderbücher\, Kinderfahrzeuge\, Umstandsmode\, Erstausstattung etc.\nSchwangere und Mütter mit Neugeborenden < 3 Monate mit Nachweis dürfen bereits ab 10 Uhr stöbern. \nHinweis: Es dürfen keine Taschen\, die größer als A5 sind\, mit in den Verkaufsraum genommen werden.
URL:https://www.taunus4family.de/veranstaltung/abgabebasar-alles-rund-ums-kind-in-langenhain/
LOCATION:Evangelisches Kinder- und Familienhaus Langenhain\, Sportplatzstraße 12\, Hofheim-Langenhain\, 65719
CATEGORIES:Basare und Flohmärkte
ATTACH;FMTTYPE=image/jpeg:https://www.taunus4family.de/wp-content/uploads/2025/01/Bild.jpg
GEO:50.1044774;8.4007781
X-APPLE-STRUCTURED-LOCATION;VALUE=URI;X-ADDRESS=Evangelisches Kinder- und Familienhaus Langenhain Sportplatzstraße 12 Hofheim-Langenhain 65719;X-APPLE-RADIUS=500;X-TITLE=Sportplatzstraße 12:geo:8.4007781,50.1044774
END:VEVENT
END:VCALENDAR