BEGIN:VCALENDAR
VERSION:2.0
PRODID:-//taunus4family - ECPv5.14.1//NONSGML v1.0//EN
CALSCALE:GREGORIAN
METHOD:PUBLISH
X-WR-CALNAME:taunus4family
X-ORIGINAL-URL:https://www.taunus4family.de
X-WR-CALDESC:Veranstaltungen für taunus4family
BEGIN:VTIMEZONE
TZID:Europe/Helsinki
BEGIN:DAYLIGHT
TZOFFSETFROM:+0200
TZOFFSETTO:+0300
TZNAME:EEST
DTSTART:20250330T010000
END:DAYLIGHT
BEGIN:STANDARD
TZOFFSETFROM:+0300
TZOFFSETTO:+0200
TZNAME:EET
DTSTART:20251026T010000
END:STANDARD
END:VTIMEZONE
BEGIN:VEVENT
DTSTART;TZID=Europe/Helsinki:20250328T160000
DTEND;TZID=Europe/Helsinki:20250328T180000
DTSTAMP:20260420T041024
CREATED:20250212T071656Z
LAST-MODIFIED:20250212T071656Z
UID:50191-1743177600-1743184800@www.taunus4family.de
SUMMARY:Abgabebasar der Ev. Andreasgemeinde Niederhöchstadt
DESCRIPTION:Es handelt sich um einen sortierten Abgabebasar für Kinderkleidung in den Größen 50 – 152\, Spielsachen\, Kinderwägen\, Sitzschalen\, Umstandsmode\, Zubehör usw. \nEinlass für Schwangere und Mütter mit Babys bis 6 Monate ab 15.30 Uhr
URL:https://www.taunus4family.de/veranstaltung/abgabebasar-der-ev-andreasgemeinde-niederhoechstadt/
LOCATION:Ev. Andreasgemeinde Niederhöchstadt\, Langer Weg 2\, Niederhöchstadt\, 65760
CATEGORIES:Basare und Flohmärkte
ATTACH;FMTTYPE=image/jpeg:https://www.taunus4family.de/wp-content/uploads/2025/02/iStock-HildaWeges.jpg
ORGANIZER;CN="Ev.%20Andreasgemeinde%20Niederh%26ouml%3Bchstadt":MAILTO:kinderbasar@andreasgemeinde.de
GEO:50.1592133;8.550489
X-APPLE-STRUCTURED-LOCATION;VALUE=URI;X-ADDRESS=Ev. Andreasgemeinde Niederhöchstadt Langer Weg 2 Niederhöchstadt 65760;X-APPLE-RADIUS=500;X-TITLE=Langer Weg 2:geo:8.550489,50.1592133
END:VEVENT
END:VCALENDAR