BEGIN:VCALENDAR
VERSION:2.0
PRODID:-//taunus4family - ECPv5.14.1//NONSGML v1.0//EN
CALSCALE:GREGORIAN
METHOD:PUBLISH
X-WR-CALNAME:taunus4family
X-ORIGINAL-URL:https://www.taunus4family.de
X-WR-CALDESC:Veranstaltungen für taunus4family
BEGIN:VTIMEZONE
TZID:Europe/Helsinki
BEGIN:DAYLIGHT
TZOFFSETFROM:+0200
TZOFFSETTO:+0300
TZNAME:EEST
DTSTART:20250330T010000
END:DAYLIGHT
BEGIN:STANDARD
TZOFFSETFROM:+0300
TZOFFSETTO:+0200
TZNAME:EET
DTSTART:20251026T010000
END:STANDARD
END:VTIMEZONE
BEGIN:VEVENT
DTSTART;TZID=Europe/Helsinki:20250329T150000
DTEND;TZID=Europe/Helsinki:20250329T170000
DTSTAMP:20260420T094227
CREATED:20241211T192347Z
LAST-MODIFIED:20250318T171522Z
UID:49808-1743260400-1743267600@www.taunus4family.de
SUMMARY:„Aladin – das Musical“
DESCRIPTION:Magisches Musical-Abenteuer in der Stadthalle \nÜber den Mut\, das eigene Schicksal zu ändern: In „Aladin – das Musical“ taucht das Publikum ein in eine Welt voller Abenteuer und Magie.\nMit eigens komponierten Musicalhits\, jeder Menge Spannung und noch mehr Humor verspricht das Theater Liberi beste Live-Unterhaltung für die ganze Familie! \nÜber den Mut\, das eigene Schicksal zu ändern \nAladin führt ein Leben als einfacher Straßenjunge\, bis sein Leben schlagartig auf den Kopf gestellt wird: Gerade erst hat er Prinzessin Yasmin kennengelernt\, die mit allen Mitteln versucht\, ihr Volk vor dem bösen Zauberer Dschafar zu schützen\, da wird er selbst in dessen fiese Machenschaften verwickelt. Denn Dschafar will endlich den Sultan loswerden und die Macht mit Hilfe einer sagenumwobenen Lampe an sich reißen. Ausgerechnet Aladin soll ihm dabei helfen\, doch das Vorhaben geht schief und Aladin sitzt in einer Höhle fest. Auf der Suche nach einem Ausweg entdeckt er das Geheimnis der Wunderlampe und befreit den mächtigen Dschinni\, der sich schnell als echter Freund herausstellt. Aladins Probleme scheinen auf einen Schlag gelöst\, denn wo ein Dschinni\, da auch drei Wünsche. Doch Magie allein wird nicht reichen\, um Yasmin zu helfen und Dschafars finstere Pläne zu durchkreuzen… \n1001 Nacht im neuen Glanz \nIn der humorvollen Adaption des Theater Liberi zeigt sich schnell\, dass die Wunderlampe allein nicht für ein Happy End sorgt. „Aladin und Yasmin erkennen\, dass sie ihr Schicksal selbst in die Hand nehmen müssen. Auch Wünsche können nur etwas verändern\, wenn man sie klug einsetzt“\, verrät Dschinni Darsteller Laurent N’Diaye. Getragen wird das Musical von den eigens komponierten Titeln der Musiker Christoph Kloppenburg und Hans Christian Becker. „Die Musik hebt die Eigenschaften der Charaktere hervor: Sie ist wandelbar wie der Dschinn\, entwickelt sich mit der Beziehung von Aladin und Yasmin und verdeutlicht den Wahnsinn Dschafars“\, beschreibt Kloppenburg die Songs. „Dabei kommen viele verschiedene Genres zum Ausdruck: Unter anderem gibt es große Show- und Revuenummern\, aber auch Einflüsse aus Hip-Hop\, Country und sogar Grunge.“ \nInfos & Tickets \nDas Musical dauert insgesamt zwei Stunden inklusive einer 20-minütigen Pause und ist für Zuschauer ab vier Jahren geeignet. Die Ticketpreise liegen je nach Kategorie bei 32 €\, 28 € oder 24 €. Kinder bis 14 Jahre erhalten eine Ermäßigung von 2 €. Tickets sind online unter www.theater-liberi.de sowie an ausgewählten Vorverkaufsstellen erhältlich. \nAlter: ab 4 Jahren \n  \nBei taunus4family könnt Ihr Freikarten gewinnen! Schreibt uns eine Mail! Viel Glück…\n 
URL:https://www.taunus4family.de/veranstaltung/aladin-das-musical/
LOCATION:Stadthalle Idstein\, Löherplatz 15\, Idstein\, 65510\, Deutschland
CATEGORIES:Theater und Bühnen
ATTACH;FMTTYPE=image/jpeg:https://www.taunus4family.de/wp-content/uploads/2021/12/Aladin-das-Musical_Pressebild-01_quer92-002-scaled.jpg
ORGANIZER;CN="Theater%20Liberi":MAILTO:info@theater-liberi.de
GEO:50.2201908;8.2699412
X-APPLE-STRUCTURED-LOCATION;VALUE=URI;X-ADDRESS=Stadthalle Idstein Löherplatz 15 Idstein 65510 Deutschland;X-APPLE-RADIUS=500;X-TITLE=Löherplatz 15:geo:8.2699412,50.2201908
END:VEVENT
END:VCALENDAR