BEGIN:VCALENDAR
VERSION:2.0
PRODID:-//taunus4family - ECPv5.14.1//NONSGML v1.0//EN
CALSCALE:GREGORIAN
METHOD:PUBLISH
X-WR-CALNAME:taunus4family
X-ORIGINAL-URL:https://www.taunus4family.de
X-WR-CALDESC:Veranstaltungen für taunus4family
BEGIN:VTIMEZONE
TZID:Europe/Helsinki
BEGIN:DAYLIGHT
TZOFFSETFROM:+0200
TZOFFSETTO:+0300
TZNAME:EEST
DTSTART:20230326T010000
END:DAYLIGHT
BEGIN:STANDARD
TZOFFSETFROM:+0300
TZOFFSETTO:+0200
TZNAME:EET
DTSTART:20231029T010000
END:STANDARD
END:VTIMEZONE
BEGIN:VEVENT
DTSTART;TZID=Europe/Helsinki:20230601T070000
DTEND;TZID=Europe/Helsinki:20230601T220000
DTSTAMP:20260420T095626
CREATED:20220114T135843Z
LAST-MODIFIED:20230531T062135Z
UID:28561-1685602800-1685656800@www.taunus4family.de
SUMMARY:Alteburger Markt 2023
DESCRIPTION:Vom einst bedeutenden Römerkastell Alteburg bei Idstein-Heftrich ist heute nichts mehr zu erkennen\, obwohl das Kastell bis ins Jahr 260 nach Christus an einer von 150 Soldaten bewachten strategischen Kreuzung des Limes mit der sogenannten Mainzer Straße und der Hohen Straße stand\, weshalb sich dort schon im dritten Jahrhundert ein reges Markttreiben entwickelt haben soll. \nAus dieser Tradition heraus hat man den Alteburger Markt wiederaufleben lassen als riesigen Kram- und Viehmarkt mit Volksfestcharakter. An drei Donnerstagen im Jahr – jeweils nach Pfingsten\, Jacobus und Bartholomäus – trifft sich Jung und Alt an der Stätte dieses ehemaligen Römerkastells unter alten Linden\, außerhalb von Heftrich (gut beschildert). \n  \nTerminübersicht\nDo.\, 27.7.2023\, 07:00 – 22:00 Uhr\nDo.\, 31.8.2023\, 07:00 – 22:00 Uhr
URL:https://www.taunus4family.de/veranstaltung/alteburger-markt-2023/
LOCATION:Alteburg Idstein\, L 3273\, Idstein-Heftrich\, 65510\, Deutschland
CATEGORIES:Feste und Märkte
ATTACH;FMTTYPE=image/jpeg:https://www.taunus4family.de/wp-content/uploads/2017/07/alteburger-markt.jpg
ORGANIZER;CN="Magistrat%20der%20%20Stadt%20Idstein":MAILTO:Birgit.Borchardt@idstein.de
GEO:50.2034109;8.3282377
X-APPLE-STRUCTURED-LOCATION;VALUE=URI;X-ADDRESS=Alteburg Idstein L 3273 Idstein-Heftrich 65510 Deutschland;X-APPLE-RADIUS=500;X-TITLE=L 3273:geo:8.3282377,50.2034109
END:VEVENT
END:VCALENDAR