BEGIN:VCALENDAR
VERSION:2.0
PRODID:-//taunus4family - ECPv5.14.1//NONSGML v1.0//EN
CALSCALE:GREGORIAN
METHOD:PUBLISH
X-WR-CALNAME:taunus4family
X-ORIGINAL-URL:https://www.taunus4family.de
X-WR-CALDESC:Veranstaltungen für taunus4family
BEGIN:VTIMEZONE
TZID:Europe/Helsinki
BEGIN:DAYLIGHT
TZOFFSETFROM:+0200
TZOFFSETTO:+0300
TZNAME:EEST
DTSTART:20240331T010000
END:DAYLIGHT
BEGIN:STANDARD
TZOFFSETFROM:+0300
TZOFFSETTO:+0200
TZNAME:EET
DTSTART:20241027T010000
END:STANDARD
END:VTIMEZONE
BEGIN:VEVENT
DTSTART;TZID=Europe/Helsinki:20241019T110000
DTEND;TZID=Europe/Helsinki:20241019T170000
DTSTAMP:20260422T145054
CREATED:20241014T133038Z
LAST-MODIFIED:20241014T133436Z
UID:49402-1729335600-1729357200@www.taunus4family.de
SUMMARY:Apfelfest im Hessenpark 2024
DESCRIPTION:Herbstzeit ist Apfelzeit!  \nAm 19. und 20. Oktober dreht sich im Freilichtmuseum alles um Hessens Lieblingsfrucht – den Apfel. Den gibt es in unterschiedlichsten Formen zu bestaunen: gerade gepflückt\, klein geschnitten zum Probieren oder frisch gepresst \nIn der historischen Kelterei des Freilichtmuseums Hessenpark produziert die Kelterei Possmann frischen Most\, den Besucherinnen entweder vor Ort genießen oder zum Mitnehmen kaufen können. Neben dem Most sind auch Apfelwein und Rauscher im Angebot. Kinder haben die Möglichkeit\, an kleinen Keltern selbst frischen Apfelsaft zu pressen oder sich beim Kürbisschnitzen handwerklich zu betätigen. Für das leibliche Wohl sorgen herzhafte Erdäpfel aus der historischen Dämpfkolonne\, die mit Quark und weiteren Beilagen serviert werden. Besitzerinnen von Apfel- oder Birnbäumen können Früchte mitbringen\, um sie von einem Pomologen bestimmen zu lassen – dafür werden mindestens fünf Exemplare pro Baum benötigt. \nIm Freilichtmuseum wachsen über 50 alte Hochstamm-Apfelsorten\, die nicht nur zu Saft verarbeitet werden: Eine Auswahl dieser Sorten kann am Verkaufsstand des Hessenparks probiert und gekauft werden. Besonders für Apfelallergikerinnen eine gute Gelegenheit\, da viele alte Sorten oft besser verträglich sind. Gartenliebhaberinnen können an einer Vorführung zum Thema Baumschnitt teilnehmen (15 bis 16 Uhr). Eine spannende Apfel-Rallye mit kniffligen Fragen für Groß und Klein führt durch das gesamte Gelände des Freilichtmuseums. Im Fruchtspeicher aus Trendelburg gibt es Info- und Verkaufsstände\, an denen sich Besucher*innen über naturnahe Themen informieren und schöne Mitbringsel erwerben können. Im Backhaus bereiten historische Hausfrauen Apfelkuchen zu und bieten kleine Kostproben an. Zudem zeigt ein Weidenflechter seine Kunst und bietet Körbe zum Kauf an. Für musikalische Unterhaltung sorgt die hessische Rock- und Blues-Band „Bembelator“\, die mit ihrem „hessischen Apfelrock“ das Event stimmungsvoll begleitet \n  \nEintrittspreise \nErwachsene: 11\,00 €\nKinder: 1\,00 € (bis 5 Jahre frei)\nFamilie: 22\,00 €
URL:https://www.taunus4family.de/veranstaltung/apfeltage-im-hessenpark-2024/
LOCATION:Freilichtmuseum Hessenpark GmbH\, Laubweg 5\, Neu-Anspach\, 61267\, Deutschland
CATEGORIES:Feste und Märkte
ATTACH;FMTTYPE=image/jpeg:https://www.taunus4family.de/wp-content/uploads/2024/10/Apfelfest_David-Bachar.jpg
ORGANIZER;CN="Freilichtmuseum%20Hessenpark":MAILTO:service@hessenpark.de
GEO:50.2800386;8.5298025
X-APPLE-STRUCTURED-LOCATION;VALUE=URI;X-ADDRESS=Freilichtmuseum Hessenpark GmbH Laubweg 5 Neu-Anspach 61267 Deutschland;X-APPLE-RADIUS=500;X-TITLE=Laubweg 5:geo:8.5298025,50.2800386
END:VEVENT
END:VCALENDAR