BEGIN:VCALENDAR
VERSION:2.0
PRODID:-//taunus4family - ECPv5.14.1//NONSGML v1.0//EN
CALSCALE:GREGORIAN
METHOD:PUBLISH
X-WR-CALNAME:taunus4family
X-ORIGINAL-URL:https://www.taunus4family.de
X-WR-CALDESC:Veranstaltungen für taunus4family
BEGIN:VTIMEZONE
TZID:Europe/Helsinki
BEGIN:DAYLIGHT
TZOFFSETFROM:+0200
TZOFFSETTO:+0300
TZNAME:EEST
DTSTART:20240331T010000
END:DAYLIGHT
BEGIN:STANDARD
TZOFFSETFROM:+0300
TZOFFSETTO:+0200
TZNAME:EET
DTSTART:20241027T010000
END:STANDARD
END:VTIMEZONE
BEGIN:VEVENT
DTSTART;TZID=Europe/Helsinki:20240818T140000
DTEND;TZID=Europe/Helsinki:20240818T200000
DTSTAMP:20260424T105942
CREATED:20240726T154240Z
LAST-MODIFIED:20240726T154240Z
UID:48781-1723989600-1724011200@www.taunus4family.de
SUMMARY:Arschbomben-Wettbewerb
DESCRIPTION:Der Sommer ist endlich da\, die Leute strömen in die Freibäder. Rein ins nasse Vergnügen – vom 3-Meter-Turm. \nWie mache ich die größte Wasserfontäne und dabei die spektakulärste Arschbombe?\nKöperspannung\, ein Bein gestreckt\, eins angewinkelt. Das Wichtigste ist die Körperspannung\, wenn man aufs Wasser kommt. Immer alles anspannen\, egal in welcher Position\, auch wenn man gerade voll auf den Rücken knallt: Anspannen\, alles! \nAuf jeden Fall cooler als die Weiberkerze. Und auf die Besten wartet eine kleine Überraschung. \n 
URL:https://www.taunus4family.de/veranstaltung/arschbomben-wettbewerb/
LOCATION:Freibad Bad Schwalbach\, Heimbacher Straße 9\, Bad Schwalbach\, 65307\, Deutschland
CATEGORIES:Freizeit,Sport und Bewegung
ATTACH;FMTTYPE=image/jpeg:https://www.taunus4family.de/wp-content/uploads/2024/07/Frank-May.jpg
ORGANIZER;CN="Magistrat%20Stadt%20Bad%20Schwalbach":MAILTO:stadt@bad-schwalbach.de
GEO:50.1491804;8.0709293
X-APPLE-STRUCTURED-LOCATION;VALUE=URI;X-ADDRESS=Freibad Bad Schwalbach Heimbacher Straße 9 Bad Schwalbach 65307 Deutschland;X-APPLE-RADIUS=500;X-TITLE=Heimbacher Straße 9:geo:8.0709293,50.1491804
END:VEVENT
END:VCALENDAR