BEGIN:VCALENDAR
VERSION:2.0
PRODID:-//taunus4family - ECPv5.14.1//NONSGML v1.0//EN
CALSCALE:GREGORIAN
METHOD:PUBLISH
X-WR-CALNAME:taunus4family
X-ORIGINAL-URL:https://www.taunus4family.de
X-WR-CALDESC:Veranstaltungen für taunus4family
BEGIN:VTIMEZONE
TZID:Europe/Helsinki
BEGIN:DAYLIGHT
TZOFFSETFROM:+0200
TZOFFSETTO:+0300
TZNAME:EEST
DTSTART:20240331T010000
END:DAYLIGHT
BEGIN:STANDARD
TZOFFSETFROM:+0300
TZOFFSETTO:+0200
TZNAME:EET
DTSTART:20241027T010000
END:STANDARD
END:VTIMEZONE
BEGIN:VEVENT
DTSTART;VALUE=DATE:20240411
DTEND;VALUE=DATE:20240415
DTSTAMP:20260420T101053
CREATED:20240314T130442Z
LAST-MODIFIED:20240314T132456Z
UID:47680-1712793600-1713139199@www.taunus4family.de
SUMMARY:Außergewöhnlicher Malkurs für Erwachsene - Paint in the Dark
DESCRIPTION:Entdecke deine kreative Seite bei Paint in the Dark und lass deine künstlerischen Ideen in einem einzigartigen Malkurs zum Leben erwachen! Nach erfolgreichen Veranstaltungen in Paris\, Singapur\, London\, Berlin und anderen Städten eröffnet dieses besondere Erlebnis nun auch in Frankfurt. Tauche ein in eine Welt voller schillernder Neonfarben und erschaffe einzigartige Kunstwerke in einem inspirierenden Studio! \nDieses besondere Ereignis findet an ausgewählten Terminen im Mercure Hotel Frankfurt City Messe statt\, in unmittelbarer Nähe des Messegeländes. Die Plätze sind begrenzt\, also sichere dir schnell deinen Platz! \nWas ist Paint in the Dark?\nPaint in the Dark ist ein faszinierender Malkurs für Erwachsene\, bei dem du im gedimmten Raum mit Neonfarben malen kannst\, die durch UV-Lichter beleuchtet werden. Teile dieses Erlebnis mit Familie und Freunden\, ganz ohne Vorkenntnisse! Lass einfach deiner Kreativität freien Lauf\, genieße den Prozess und teste deine künstlerischen Fähigkeiten. Ein erfrischendes Getränk ist im Preis inbegriffen und kann in der Bar im Mercure Hotel Frankfurt City Messe erworben werden. \nMehr über Paint in the Dark\nIn jedem 90-minütigen Workshop\, der normalerweise an Wochenenden stattfindet\, begleitet euch ein professioneller Maler durch dieses faszinierende Erlebnis. Deiner Kreativität sind keine Grenzen gesetzt – von idyllischen Landschaften bis hin zu ausgefallenen Selbstporträts kannst du alles malen\, was dir in den Sinn kommt. Alle benötigten Malutensilien sind vor Ort verfügbar. Am Ende kannst du dein Kunstwerk mit nach Hause nehmen und stolz präsentieren. \nFür wen ist Paint in the Dark geeignet?\nDieser aufregende Kunst-Workshop ist für alle geeignet\, die ihre Kreativität entfalten und ihre künstlerische Seite entdecken möchten. Ganz gleich\, ob professioneller Künstler oder neugieriger Anfänger – hier ist jeder willkommen! Es geht einfach darum\, Spaß zu haben\, sich gehen zu lassen und neue Erinnerungen mit Familie\, Freunden\, Bekannten oder Kollegen zu schaffen. Sichere dir jetzt deinen Platz und tauche ein in die Welt von Paint in the Dark! \n  \nTermine\n11. April bis 14. April 2024 \n  \nPreis und Ticket\n41 EUR/Person HIER bestellen! \n 
URL:https://www.taunus4family.de/veranstaltung/aussergewoehnlicher-malkurs-fuer-erwachsene-paint-in-the-dark/
LOCATION:Mercure Hotel & Residenz\, Voltastr. 29\, Frankfurt am Main\, 60486\, Deutschland
CATEGORIES:Freizeit,Kunst und Kultur
ATTACH;FMTTYPE=image/jpeg:https://www.taunus4family.de/wp-content/uploads/2024/03/Unbenannt-1.jpg
ORGANIZER;CN="feverup":MAILTO:info@fever-events.de
GEO:50.1166888;8.6390121
X-APPLE-STRUCTURED-LOCATION;VALUE=URI;X-ADDRESS=Mercure Hotel & Residenz Voltastr. 29 Frankfurt am Main 60486 Deutschland;X-APPLE-RADIUS=500;X-TITLE=Voltastr. 29:geo:8.6390121,50.1166888
END:VEVENT
END:VCALENDAR