BEGIN:VCALENDAR
VERSION:2.0
PRODID:-//taunus4family - ECPv5.14.1//NONSGML v1.0//EN
CALSCALE:GREGORIAN
METHOD:PUBLISH
X-WR-CALNAME:taunus4family
X-ORIGINAL-URL:https://www.taunus4family.de
X-WR-CALDESC:Veranstaltungen für taunus4family
BEGIN:VTIMEZONE
TZID:Europe/Helsinki
BEGIN:DAYLIGHT
TZOFFSETFROM:+0200
TZOFFSETTO:+0300
TZNAME:EEST
DTSTART:20250330T010000
END:DAYLIGHT
BEGIN:STANDARD
TZOFFSETFROM:+0300
TZOFFSETTO:+0200
TZNAME:EET
DTSTART:20251026T010000
END:STANDARD
END:VTIMEZONE
BEGIN:VEVENT
DTSTART;VALUE=DATE:20250425
DTEND;VALUE=DATE:20250428
DTSTAMP:20260421T232700
CREATED:20250319T103926Z
LAST-MODIFIED:20250330T102957Z
UID:50591-1745539200-1745798399@www.taunus4family.de
SUMMARY:Autos in der Allee - Oberursel 2025
DESCRIPTION:Autobegeisterte aufgepasst!\nOb Familienauto\, Luxuswagen oder Oldtimer – bei „Autos in der Allee“ gibt es am 26. und 27. April wieder viel zu entdecken! \nJedes Jahr am vierten Wochenende im April dreht sich alles um Mobilität – von Familienautos bis hin zu Luxusfahrzeugen. Besonders im Fokus stehen Elektromobile\, aber auch Motorräder\, Oldtimer\, Fahrräder und weitere Fahrzeuge sind vertreten. Doch nicht nur Autoliebhaber kommen auf ihre Kosten – die AiA ist ein Erlebnis für die ganze Familie! Während Eltern sich über die neuesten Modelle und Trends informieren\, erwartet Kinder ein buntes Programm mit Spiel\, Kunst und Kultur. Regionale Gastronomie und Vereine sorgen für das leibliche Wohl und runden das Event zu einem perfekten Ausflugsziel für Groß und Klein ab. \nEinkaufsbummel\, Autos und Familienspaß – Ein Wochenende voller Erlebnisse!\n\n\n\n\nAm Samstag mit verlängerten Öffnungszeiten und am verkaufsoffenen Sonntag laden zahlreiche Geschäfte in der Innenstadt zum gemütlichen Bummel ein. Sie nutzen die Gelegenheit\, sich den vielen Besuchern von ihrer besten Seite zu präsentieren. Die Veranstaltungsfläche erstreckt sich von der Adenauerallee über den Epinay- und Rathausplatz bis hin zum historischen Marktplatz\, wo in diesem Jahr die Oldtimer-Alm ihre Premiere feiert. \nDie lokale Gastronomie und Vereine verwöhnen die Besucher mit leckeren Speisen und Getränken\, während ein abwechslungsreiches Programm aus Konzerten\, Spiel\, Unterhaltung\, Kunst und Informationsangeboten dafür sorgt\, dass dieser Ausflug für Jung und Alt unvergesslich bleibt. \nSpektakel für Kinder & Markt der schönen Dinge\nWährend sich die Erwachsenen nach ihrem Traumauto umsehen\, gibt es für die kleinen Besucher jede Menge zu entdecken. Im Adenauerpark können Kinder mit der Dampfeisenbahn fahren oder sich beim Kinderschminken verwandeln lassen. Ein besonderes Highlight ist das Kindertheater\, das am Sonntag um 14:00 Uhr und 16:30 Uhr die Puppenspiele „Der Affe Wuselpusel“ und „Der Löwe Mokko Schaschiba“ präsentiert. \nFür alle\, die kreative Handwerkskunst lieben\, bietet der Markt der schönen Dinge eine große Auswahl an einzigartigen Werken regionaler Hobbykünstler. In diesem Jahr gibt es sogar einen großen Kunsthandwerk-Markt\, der zum ersten Mal stattfindet. \nEin Event\, das die ganze Familie begeistert!
URL:https://www.taunus4family.de/veranstaltung/autos-in-der-allee-oberursel-2025/
LOCATION:Adenauer Alle 1 Oberursel\, Adenauer Allee 1\, Oberursel\, 61446\, Deutschland
CATEGORIES:Feste und Märkte
ATTACH;FMTTYPE=image/jpeg:https://www.taunus4family.de/wp-content/uploads/2025/03/iStock-HABesen.jpg
ORGANIZER;CN="fokus%20O.%20Forum%20der%20Selbstst%C3%A4ndigen%20Oberursel%20e.V.":MAILTO:info@fokus-o.de
END:VEVENT
END:VCALENDAR