BEGIN:VCALENDAR
VERSION:2.0
PRODID:-//taunus4family - ECPv5.14.1//NONSGML v1.0//EN
CALSCALE:GREGORIAN
METHOD:PUBLISH
X-WR-CALNAME:taunus4family
X-ORIGINAL-URL:https://www.taunus4family.de
X-WR-CALDESC:Veranstaltungen für taunus4family
BEGIN:VTIMEZONE
TZID:Europe/Helsinki
BEGIN:DAYLIGHT
TZOFFSETFROM:+0200
TZOFFSETTO:+0300
TZNAME:EEST
DTSTART:20250330T010000
END:DAYLIGHT
BEGIN:STANDARD
TZOFFSETFROM:+0300
TZOFFSETTO:+0200
TZNAME:EET
DTSTART:20251026T010000
END:STANDARD
END:VTIMEZONE
BEGIN:VEVENT
DTSTART;TZID=Europe/Helsinki:20250606T090000
DTEND;TZID=Europe/Helsinki:20250606T123000
DTSTAMP:20260419T175103
CREATED:20250511T093403Z
LAST-MODIFIED:20250511T093403Z
UID:51000-1749200400-1749213000@www.taunus4family.de
SUMMARY:AzubiExpo 2025 - Die Ausbildungsmesse für den Hochtaunus- und Main-Taunus-Kreis
DESCRIPTION:Save the date\nIn lockerer Atmosphäre haben Besucherinnen und Besucher die Möglichkeit\, mit über 30 Arbeitgeber direkt vor Ort ins Gespräch zu kommen. Nahezu alle Branchen sind vertreten – von den Dienstleistungsberufen über den Einzelhandel bis hin zu handwerklichen Berufen. \nDie Ausbildungsmesse bietet die Gelegenheit\, sich direkt vor Ort um einen Ausbildungsplatz zu bewerben. Auch wer auf der Suche nach einem Praktikumsplatz ist\, findet hier passende Angebote. \nDie Kollegen der Berufsberatung stehen am 06. Juni 2025 zwischen 09:00 und 12:30 Uhr mit Tipps und Tricks rund um den Start ins Berufsleben zur Verfügung. Zusätzlich präsentiert der Arbeitgeber-Service noch offene Ausbildungsstellen. \nEin besonderer Hinweis: Ein gepflegtes Outfit lohnt sich – vor Ort können kostenfrei professionelle Bewerbungsfotos gemacht werden. \nZudem bieten die Vorträge „Wie bewerbe ich mich richtig?“ und „Karriere im Handwerk“ wertvolle Informationen für den Berufseinstieg. \nHier geht’s zur Broschüre! \nDas Rahmenprogramm für dich!\nDer große Bewerbungsmappen-Check\n9:30 – 12:00 Uhr \nBewerbungsfotos\n9:00 Uhr-12:30 Uhr \nBewerben aber wie?\n11:00 Uhr \nAusbildungsplätze für 2025\n9:30 – 12:00 Uhr \nKarriere im Handwerk – Vortrag von Dirk Velte\n10:00 Uhr \nSchmiedemeister\, Betriebswirt des Handwerks und öffentlich bestellter und\nvereidigter Sachverständiger der Handwerkskammer Frankfurt-Rhein-Main für\nden Bereich Metallbau und Metallgestaltung\nAnmerkung: Einige Arbeitgeber bieten auch ein Duales Studium an\, sprich\nsie einfach an
URL:https://www.taunus4family.de/veranstaltung/azubiexpo-2025-die-ausbildungsmesse-fuer-den-hochtaunus-und-main-taunus-kreis/
LOCATION:Berufsinformationszentrum Bad Homburg\, Ober-Eschbacher-Str. 109\, Bad Homburg\, 61352\, Deutschland
CATEGORIES:Weiterbildung und Information
ATTACH;FMTTYPE=image/jpeg:https://www.taunus4family.de/wp-content/uploads/2025/05/Screenshot-2025-05-11-102545.jpg
ORGANIZER;CN="Bundesagentur%20f%C3%BCr%20Arbeit":MAILTO:BadHomburg.Berufesberatung@arbeitsagentur.de
END:VEVENT
END:VCALENDAR