BEGIN:VCALENDAR
VERSION:2.0
PRODID:-//taunus4family - ECPv5.14.1//NONSGML v1.0//EN
CALSCALE:GREGORIAN
METHOD:PUBLISH
X-WR-CALNAME:taunus4family
X-ORIGINAL-URL:https://www.taunus4family.de
X-WR-CALDESC:Veranstaltungen für taunus4family
BEGIN:VTIMEZONE
TZID:Europe/Helsinki
BEGIN:DAYLIGHT
TZOFFSETFROM:+0200
TZOFFSETTO:+0300
TZNAME:EEST
DTSTART:20250330T010000
END:DAYLIGHT
BEGIN:STANDARD
TZOFFSETFROM:+0300
TZOFFSETTO:+0200
TZNAME:EET
DTSTART:20251026T010000
END:STANDARD
END:VTIMEZONE
BEGIN:VEVENT
DTSTART;TZID=Europe/Helsinki:20250928T100000
DTEND;TZID=Europe/Helsinki:20250928T110000
DTSTAMP:20260423T220507
CREATED:20250826T074529Z
LAST-MODIFIED:20251004T082252Z
UID:51679-1759053600-1759057200@www.taunus4family.de
SUMMARY:Babykonzert „Leo Löwe auf dem Bauernhof“
DESCRIPTION:Es ist nie zu früh\, die Musik im Konzert zu erleben\nDas Repertoire wurde für Babys und Kleinkinder angepasst. Es kommen lebhafte\, leichte\, lustige und sanfte Melodien vor. Die kleinen Zuschauer dürfen auch gerne mitmachen\, zu jedem Stück werden Spiele und Bewegungen angeboten\, die ihnen helfen\, die Musik besser wahrzunehmen. \nDas Stück:\nLeo Löwe fährt mit einer wunderbaren Dampfeisenbahn zur Oma Rosemarie und ihrem Bauernhof. Dort wird er viel erleben: Unterschiedliche Tiere\, wie Gänse\, Hühner\, Ziege\, Pferd\, Lamm\,Kuh und viele andere kennenlernen.\nEr lernt auch etwas über das Obst und Gemüse\, das dort angebaut wird. Und er darf sogar einmal den Traktor fahren.\nDabei gibt es wieder klassisch arrangierte Kinderlieder und Klaviermusik.\nDas Repertoire wurde für Babys und Kleinkinder angepasst. Es kommen lebhafte\, leichte\, lustige und sanfte Melodien vor. Die kleinen Zuschauer dürfen auch gerne mitmachen\, zu jedem Stück werden Spiele und Bewegungen angeboten\, die ihnen helfen\, die Musik besser wahrzunehmen. \n  \nZielgruppe: 0-3 Jahre\, Geschwister bis 5 Jahre sind herzlich willkommen. \nTickets und Infos auf www.main-e-oper.de
URL:https://www.taunus4family.de/veranstaltung/babykonzert-leo-loewe-auf-dem-bauernhof-2/
LOCATION:Gallus Theater\, Kleyer Str.15\, Frankfurt\, 60326
CATEGORIES:Musik und Konzerte
ATTACH;FMTTYPE=image/jpeg:https://www.taunus4family.de/wp-content/uploads/2025/08/iStock-wikoski.jpg
ORGANIZER;CN="Gallus%20Theater":MAILTO:info@gallustheater.de
GEO:50.102735;8.6433256
X-APPLE-STRUCTURED-LOCATION;VALUE=URI;X-ADDRESS=Gallus Theater Kleyer Str.15 Frankfurt 60326;X-APPLE-RADIUS=500;X-TITLE=Kleyer Str.15:geo:8.6433256,50.102735
END:VEVENT
END:VCALENDAR