BEGIN:VCALENDAR
VERSION:2.0
PRODID:-//taunus4family - ECPv5.14.1//NONSGML v1.0//EN
CALSCALE:GREGORIAN
METHOD:PUBLISH
X-WR-CALNAME:taunus4family
X-ORIGINAL-URL:https://www.taunus4family.de
X-WR-CALDESC:Veranstaltungen für taunus4family
BEGIN:VTIMEZONE
TZID:Europe/Helsinki
BEGIN:DAYLIGHT
TZOFFSETFROM:+0200
TZOFFSETTO:+0300
TZNAME:EEST
DTSTART:20240331T010000
END:DAYLIGHT
BEGIN:STANDARD
TZOFFSETFROM:+0300
TZOFFSETTO:+0200
TZNAME:EET
DTSTART:20241027T010000
END:STANDARD
END:VTIMEZONE
BEGIN:VEVENT
DTSTART;TZID=Europe/Helsinki:20240414T100000
DTEND;TZID=Europe/Helsinki:20240414T103000
DTSTAMP:20260424T144558
CREATED:20240310T210640Z
LAST-MODIFIED:20240317T181733Z
UID:47627-1713088800-1713090600@www.taunus4family.de
SUMMARY:Babykonzert: Leo Löwe aus dem Opernland
DESCRIPTION:Zusammen reisen wir durch die Länder der Opernwelt. Wir besuchen Italien\, Spanien\, Indien\, Türkei\, Amerika und Deutschland. Es werden bekannte Duette\, Lieder und Arien von W. A. Mozart\, G. Rossini\, J. Offenbach und weitere von zwei Sängerinnen gesungen und am Klavier begleitet. \nEs ist nie zu früh\, die Musik im Konzert zu erleben\nDas Repertoire wurde für Babys und Kleinkinder angepasst. Es kommen lebhafte\, leichte\, lustige und sanfte Melodien vor. Die kleinen Zuschauer dürfen auch gerne mitmachen\, zu jedem Stück werden Spiele und Bewegungen angeboten\, die ihnen helfen\, die Musik besser wahrzunehmen. \nZielgruppe sind Babies und Kleinkinder bis 4 Jahre und deren Geschwister bis 5 Jahre. \nPreise\nKinder: 5\,50 Euro zzgl. Vorverkaufsgebühr\nErwachsene: 16\,50 Euro zzgl. Vorverkaufsgebühr
URL:https://www.taunus4family.de/veranstaltung/babykonzert-leo-loewe-aus-dem-opernland/
LOCATION:Gallus Theater\, Kleyer Str.15\, Frankfurt\, 60326
CATEGORIES:Musik und Konzerte,Theater und Bühnen
ATTACH;FMTTYPE=image/jpeg:https://www.taunus4family.de/wp-content/uploads/2024/03/babykonzerte_iStock-Jasonfang-titel.jpg
ORGANIZER;CN="main-e-oper":MAILTO:info@main-e-oper.de
GEO:50.102735;8.6433256
X-APPLE-STRUCTURED-LOCATION;VALUE=URI;X-ADDRESS=Gallus Theater Kleyer Str.15 Frankfurt 60326;X-APPLE-RADIUS=500;X-TITLE=Kleyer Str.15:geo:8.6433256,50.102735
END:VEVENT
END:VCALENDAR