BEGIN:VCALENDAR
VERSION:2.0
PRODID:-//taunus4family - ECPv5.14.1//NONSGML v1.0//EN
CALSCALE:GREGORIAN
METHOD:PUBLISH
X-WR-CALNAME:taunus4family
X-ORIGINAL-URL:https://www.taunus4family.de
X-WR-CALDESC:Veranstaltungen für taunus4family
BEGIN:VTIMEZONE
TZID:Europe/Helsinki
BEGIN:DAYLIGHT
TZOFFSETFROM:+0200
TZOFFSETTO:+0300
TZNAME:EEST
DTSTART:20250330T010000
END:DAYLIGHT
BEGIN:STANDARD
TZOFFSETFROM:+0300
TZOFFSETTO:+0200
TZNAME:EET
DTSTART:20251026T010000
END:STANDARD
END:VTIMEZONE
BEGIN:VEVENT
DTSTART;VALUE=DATE:20250829
DTEND;VALUE=DATE:20250903
DTSTAMP:20260421T233903
CREATED:20250724T120457Z
LAST-MODIFIED:20250724T121005Z
UID:51568-1756425600-1756857599@www.taunus4family.de
SUMMARY:Bad Homburger Laternenfest 2025
DESCRIPTION:Schön verrückt seit 1935\nDas Bad Homburger Laternenfest ist ein fester Höhepunkt im Veranstaltungskalender des Taunus und ein Erlebnis für die ganze Familie. Jedes Jahr verwandelt sich die Stadt in ein stimmungsvolles Lichtermeer – von der Louisenstraße über die Ritter-von-Marx-Brücke bis zum Festplatz am Heuchelbach. Entlang der Wege laden liebevoll dekorierte Stände\, Karussells\, Imbissangebote sowie Wein- und Biergärten zum Bummeln\, Genießen und Verweilen ein. \nOb auf der historischen Weed\, vor der Schlosskulisse oder unter den Altstadtbögen – zahlreiche Live-Auftritte sorgen für musikalische Highlights und ausgelassene Stimmung. Wer es ruhiger mag\, entdeckt die romantische Seite des Festes in den stimmungsvoll beleuchteten Hinterhöfen der Altstadt. \nEin besonderes Erlebnis für Kinder und Erwachsene sind die traditionellen Festzüge am Samstag und Sonntag\, bei denen farbenfrohe Motivwagen\, Musikgruppen und natürlich die Bad Homburger Laternenkönigin die Straßen erobern. Das Laternenfest vereint lebendiges Stadtleben mit gemütlicher Festatmosphäre – ein idealer Ausflugstipp für Familien im Taunus. \n  \nÖffnungszeiten:\nFreitag: 14-1 Uhr\nSamstag und Sonntag: 11-1 Uhr\nMontag: 11-0 Uhr\nMusikdarbietungen an allen Tagen bis 24 Uhr \n  \n  \n 
URL:https://www.taunus4family.de/veranstaltung/bad-homburger-laternenfest-2025/
LOCATION:Innenstadt Bad Homburg\, Bad Homburg v. d. Höhe\, 61343\, Deutschland
CATEGORIES:Feste und Märkte
ATTACH;FMTTYPE=image/jpeg:https://www.taunus4family.de/wp-content/uploads/2022/07/bad-homburg-tourismus.jpg
ORGANIZER;CN="Verein%20zur%20Gestaltung%20und%20F%C3%B6rderung%20des%20Bad%20Homburger%20Laternenfestes%20e.V.":MAILTO:info@laternenfest.de
GEO:50.2268308;8.6181618
END:VEVENT
END:VCALENDAR