BEGIN:VCALENDAR
VERSION:2.0
PRODID:-//taunus4family - ECPv5.14.1//NONSGML v1.0//EN
CALSCALE:GREGORIAN
METHOD:PUBLISH
X-WR-CALNAME:taunus4family
X-ORIGINAL-URL:https://www.taunus4family.de
X-WR-CALDESC:Veranstaltungen für taunus4family
BEGIN:VTIMEZONE
TZID:Europe/Helsinki
BEGIN:DAYLIGHT
TZOFFSETFROM:+0200
TZOFFSETTO:+0300
TZNAME:EEST
DTSTART:20250330T010000
END:DAYLIGHT
BEGIN:STANDARD
TZOFFSETFROM:+0300
TZOFFSETTO:+0200
TZNAME:EET
DTSTART:20251026T010000
END:STANDARD
END:VTIMEZONE
BEGIN:VEVENT
DTSTART;TZID=Europe/Helsinki:20250816T140000
DTEND;TZID=Europe/Helsinki:20250816T235900
DTSTAMP:20260421T193538
CREATED:20250724T113513Z
LAST-MODIFIED:20250728T174051Z
UID:51564-1755352800-1755388740@www.taunus4family.de
SUMMARY:Bad Sodener Sommernachtsfest 2025
DESCRIPTION:Nacht der Lichter\nDas diesjährige Bad Sodener Sommernachtsfest findet am Samstag\, den 16. August 2025\, in stimmungsvoller Atmosphäre statt. Veranstaltungsorte sind der Alte Kurpark\, die Königsteiner Straße\, der untere Bereich der Kronberger Straße (bis zur Salinenstraße) sowie Teile der Altstadt. Gäste aus der gesamten Region sind eingeladen\, ein buntes Stadtfest mit abwechslungsreicher Gastronomie\, vielfältiger Livemusik und einem unterhaltsamen Nachmittagsprogramm für Kinder zu genießen. \nEin besonderes Highlight in diesem Jahr: Nach längerer Pause wird um 23:45 Uhr erneut ein großes Feuerwerk den Himmel über dem Alten Kurpark erleuchten. Den besten Blick auf das Spektakel bietet die obere Wiese des Kurparks. \nUnter dem Motto „Nacht der Lichter“ werden ab etwa 21:30 Uhr das Badehaus\, die Bäume im Kurpark sowie Teile der Innenstadt in stimmungsvolles Licht getaucht und schaffen eine einzigartige Atmosphäre. \nDas musikalische Programm ist auf mehrere Bühnen verteilt: \n\n\nEine neue Bühne an der Ecke Königsteiner Straße/Kronberger Straße \n\n\nDie Konzertmuschel im Alten Kurpark \n\n\nWeitere Musikbereiche in der Innenstadt \n\n\nFür Kinder bietet das Fest ein abwechslungsreiches Unterhaltungsprogramm mit Hüpfburg\, Trampolin\, Fahrgeschäften und vielen Spielaktionen. \nAuch kulinarisch wird einiges geboten: Von herzhaften und süßen Speisen über Weine\, Bier\, Cocktails und Softdrinks bis hin zu handgefertigten Produkten\, Kunst und Schmuck – für Genießer ist bestens gesorgt. \nDie feierliche Eröffnung des Sommernachtsfests findet um 15:00 Uhr an der Konzertmuschel im Alten Kurpark statt\, begleitet von Bürgermeister Dr. Frank Blasch und musikalisch untermalt durch die Band Stereo Coffee. \nZur besseren Erreichbarkeit stehen kostenlose Pendelbusse ab dem Busbahnhof in die Stadtteile Neuenhain und Altenhain zur Verfügung. Die Fahrpläne werden am Veranstaltungstag vor Ort bekannt gegeben. Zudem ist das Parkhaus am Bahnhof an diesem Tag kostenfrei nutzbar.
URL:https://www.taunus4family.de/veranstaltung/bad-sodener-sommernachtsfest-2025/
LOCATION:Bad Soden am Taunus\, Alten Kurpark\, der Königsteiner Straße und in der Altstadt.\, Bad Soden am Taunus\, 65812\, Deutschland
CATEGORIES:Feste und Märkte
ATTACH;FMTTYPE=image/jpeg:https://www.taunus4family.de/wp-content/uploads/2025/07/Screenshot-2025-07-24-133812.jpg
ORGANIZER;CN="Magistrat%20der%20Stadt%20Bad%20Soden%20am%20Taunus":MAILTO:info@bad-soden.de
GEO:50.1456132;8.5012607
X-APPLE-STRUCTURED-LOCATION;VALUE=URI;X-ADDRESS=Bad Soden am Taunus Alten Kurpark der Königsteiner Straße und in der Altstadt. Bad Soden am Taunus 65812 Deutschland;X-APPLE-RADIUS=500;X-TITLE=Alten Kurpark\, der Königsteiner Straße und in der Altstadt.:geo:8.5012607,50.1456132
END:VEVENT
END:VCALENDAR