BEGIN:VCALENDAR
VERSION:2.0
PRODID:-//taunus4family - ECPv5.14.1//NONSGML v1.0//EN
CALSCALE:GREGORIAN
METHOD:PUBLISH
X-WR-CALNAME:taunus4family
X-ORIGINAL-URL:https://www.taunus4family.de
X-WR-CALDESC:Veranstaltungen für taunus4family
BEGIN:VTIMEZONE
TZID:Europe/Helsinki
BEGIN:DAYLIGHT
TZOFFSETFROM:+0200
TZOFFSETTO:+0300
TZNAME:EEST
DTSTART:20250330T010000
END:DAYLIGHT
BEGIN:STANDARD
TZOFFSETFROM:+0300
TZOFFSETTO:+0200
TZNAME:EET
DTSTART:20251026T010000
END:STANDARD
END:VTIMEZONE
BEGIN:VEVENT
DTSTART;TZID=Europe/Helsinki:20250927T100000
DTEND;TZID=Europe/Helsinki:20250927T120000
DTSTAMP:20260423T202233
CREATED:20250915T071118Z
LAST-MODIFIED:20250915T071118Z
UID:52005-1758967200-1758974400@www.taunus4family.de
SUMMARY:Basar für Kinderkleidung und Spielzeuge Hofheim Lorsbach
DESCRIPTION:Großer vorsortierter Abgabebasar für Kinderkleidung und Spielzeug in Hofheim/Lorsbach. Bei uns findet ihr alles was das Herz begehrt – von Kinderkleidung in den Größen 50 – 164\, über Baby- und Kinderausstattung bis hin zu einer großen Auswahl an Spielzeug\, Büchern & Co. Neben dem Verkauf bieten wir Kuchen\, Waffeln & Kaffee an. Unsere Turnhalle bietet ausreichend Platz für viele Besucher\, kein Gedränge oder lange Schlangen in engen Gängen. Genügend Parkmöglichkeiten für Besucher sind am Sportplatz oder Bahnhof in direkter Laufnähe zur Turnhalle vorhanden.\n09:15-10:00 Uhr: Vorverkauf für Schwangere & Eltern mit Kleinkind bis 6 Monate (bitte Mutterpass oder Kind mitbringen)\n10:00-12:00 Uhr: offen für alle\nWir freuen uns auf euren Besuch!
URL:https://www.taunus4family.de/veranstaltung/basar-fuer-kinderkleidung-und-spielzeuge-hofheim-lorsbach-2/
LOCATION:Sporthalle\, Bornstr. 77 in 65719 Hofheim-Lorsbach\, Burgstraße 77\, Hofheim-Lorsbach\, 65719
CATEGORIES:Basare und Flohmärkte
ATTACH;FMTTYPE=image/jpeg:https://www.taunus4family.de/wp-content/uploads/2025/09/Herbst_25.jpg
ORGANIZER;CN="Wurzelkinder%20-%20F%C3%B6rderverein%20f%C3%BCr%20den%20Ev.%20Kindergarten%20und%20die%20Grundschule%20in%20Lorsbach":MAILTO:kinderbasar.lorsbach@gmail.com
GEO:50.1399634;8.3944856
X-APPLE-STRUCTURED-LOCATION;VALUE=URI;X-ADDRESS=Sporthalle Bornstr. 77 in 65719 Hofheim-Lorsbach Burgstraße 77 Hofheim-Lorsbach 65719;X-APPLE-RADIUS=500;X-TITLE=Burgstraße 77:geo:8.3944856,50.1399634
END:VEVENT
END:VCALENDAR