BEGIN:VCALENDAR
VERSION:2.0
PRODID:-//taunus4family - ECPv5.14.1//NONSGML v1.0//EN
CALSCALE:GREGORIAN
METHOD:PUBLISH
X-WR-CALNAME:taunus4family
X-ORIGINAL-URL:https://www.taunus4family.de
X-WR-CALDESC:Veranstaltungen für taunus4family
BEGIN:VTIMEZONE
TZID:Europe/Helsinki
BEGIN:DAYLIGHT
TZOFFSETFROM:+0200
TZOFFSETTO:+0300
TZNAME:EEST
DTSTART:20240331T010000
END:DAYLIGHT
BEGIN:STANDARD
TZOFFSETFROM:+0300
TZOFFSETTO:+0200
TZNAME:EET
DTSTART:20241027T010000
END:STANDARD
END:VTIMEZONE
BEGIN:VEVENT
DTSTART;TZID=Europe/Helsinki:20240316T090000
DTEND;TZID=Europe/Helsinki:20240316T120000
DTSTAMP:20260420T002520
CREATED:20240212T065936Z
LAST-MODIFIED:20240212T065936Z
UID:47350-1710579600-1710590400@www.taunus4family.de
SUMMARY:Basar „Rund ums Kind“ in Bad Homburg / Gonzenheim
DESCRIPTION:Am Samstag\, den 16.03.2024 veranstaltet der Förderverein KITA Eschbachtal e.V. einen vorsortierten Kinderbasar „Rund ums Kind“ von 09:00 Uhr bis 12:00 Uhr im Vereinshaus Gonzenheim\, Kitzenhof 4\, 61352 Bad Homburg. \nAngeboten werden Frühjahrs- und Sommerbekleidung sowie Schuhe für Babys\, Kinder und Jugendliche bis Größe 176\, Schwangerenbekleidung\, Spielzeug\, Bücher\, Großteile\, etc. \nSchwangere können gegen Vorlage des Mutterpasses bereits um 8:45 Uhr eingelassen werden. \nDie Nummernvergabe beginnt am 12.02.2024 um 20 Uhr und endet am 25.02.2024 um 20 Uhr. Bitte bewerben sie sich für eine Nummer mit ihrem Namen und Adresse unter basaranmeldung@gmx.de. Pro Haushalt kann nur eine Anmeldung angenommen werden. \n10% des Erlöses werden einbehalten und gehen als Spende an den Förderverein KITA Eschbachtal e.V. \nWir freuen uns auf Euch!
URL:https://www.taunus4family.de/veranstaltung/basar-rund-ums-kind-in-bad-homburg-gonzenheim-3/
LOCATION:Vereinshaus Gonzenheim\, Am Kitzenhof 4\, 61352 Bad Homburg\, Am Kitzenhof 4\, Bad Homburg\, 61352
CATEGORIES:Basare und Flohmärkte
ATTACH;FMTTYPE=image/jpeg:https://www.taunus4family.de/wp-content/uploads/2021/08/fotolia_animaflora1.jpg
GEO:50.2210219;8.6418895
X-APPLE-STRUCTURED-LOCATION;VALUE=URI;X-ADDRESS=Vereinshaus Gonzenheim Am Kitzenhof 4 61352 Bad Homburg Am Kitzenhof 4 Bad Homburg 61352;X-APPLE-RADIUS=500;X-TITLE=Am Kitzenhof 4:geo:8.6418895,50.2210219
END:VEVENT
END:VCALENDAR