BEGIN:VCALENDAR
VERSION:2.0
PRODID:-//taunus4family - ECPv5.14.1//NONSGML v1.0//EN
CALSCALE:GREGORIAN
METHOD:PUBLISH
X-WR-CALNAME:taunus4family
X-ORIGINAL-URL:https://www.taunus4family.de
X-WR-CALDESC:Veranstaltungen für taunus4family
BEGIN:VTIMEZONE
TZID:Europe/Helsinki
BEGIN:DAYLIGHT
TZOFFSETFROM:+0200
TZOFFSETTO:+0300
TZNAME:EEST
DTSTART:20240331T010000
END:DAYLIGHT
BEGIN:STANDARD
TZOFFSETFROM:+0300
TZOFFSETTO:+0200
TZNAME:EET
DTSTART:20241027T010000
END:STANDARD
END:VTIMEZONE
BEGIN:VEVENT
DTSTART;TZID=Europe/Helsinki:20241124T130000
DTEND;TZID=Europe/Helsinki:20241124T160000
DTSTAMP:20260426T035236
CREATED:20241030T063050Z
LAST-MODIFIED:20241030T063050Z
UID:49513-1732453200-1732464000@www.taunus4family.de
SUMMARY:Basar "Rund ums Kind"
DESCRIPTION:Wir laden Sie herzlich ein\, unseren Selbstverkäufer-Basar rund ums Kind zu besuchen\, organisiert von dem Elternbeirat der Kita am Gänsberg. \nFür das leibliche Wohl ist bestens gesorgt: Kaffee & Kuchen\, Getränke & Waffelverkauf – auch zum Mitnehmen! \n24. November 2024\nvon 13:00 bis 16:00 Uhr \nKita am Gänsberg\nKonrad-Adenauer-Str. 33\, Idstein \nAnmeldung & Infos unter: basar-gaensbergkita@gmx.de
URL:https://www.taunus4family.de/veranstaltung/basar-rund-ums-kind/
LOCATION:Kita am Gänsberg\, Idstein\, Konrad-Adenauer-Str. 33\, Idstein\, 65510
CATEGORIES:Basare und Flohmärkte
ATTACH;FMTTYPE=image/jpeg:https://www.taunus4family.de/wp-content/uploads/2024/10/Basar-Plakat-11-24-scaled-e1730269839972.jpg
ORGANIZER;CN="Elternbeirat%20der%20Kita%20am%20G%26auml%3Bnsberg":MAILTO:basar-gaensbergkita@gmx.de
GEO:50.2238813;8.2806576
X-APPLE-STRUCTURED-LOCATION;VALUE=URI;X-ADDRESS=Kita am Gänsberg Idstein Konrad-Adenauer-Str. 33 Idstein 65510;X-APPLE-RADIUS=500;X-TITLE=Konrad-Adenauer-Str. 33:geo:8.2806576,50.2238813
END:VEVENT
END:VCALENDAR