BEGIN:VCALENDAR
VERSION:2.0
PRODID:-//taunus4family - ECPv5.14.1//NONSGML v1.0//EN
CALSCALE:GREGORIAN
METHOD:PUBLISH
X-WR-CALNAME:taunus4family
X-ORIGINAL-URL:https://www.taunus4family.de
X-WR-CALDESC:Veranstaltungen für taunus4family
BEGIN:VTIMEZONE
TZID:Europe/Helsinki
BEGIN:DAYLIGHT
TZOFFSETFROM:+0200
TZOFFSETTO:+0300
TZNAME:EEST
DTSTART:20250330T010000
END:DAYLIGHT
BEGIN:STANDARD
TZOFFSETFROM:+0300
TZOFFSETTO:+0200
TZNAME:EET
DTSTART:20251026T010000
END:STANDARD
END:VTIMEZONE
BEGIN:VEVENT
DTSTART;TZID=Europe/Helsinki:20250322T123000
DTEND;TZID=Europe/Helsinki:20250322T150000
DTSTAMP:20260422T133452
CREATED:20250206T054556Z
LAST-MODIFIED:20250206T054556Z
UID:50063-1742646600-1742655600@www.taunus4family.de
SUMMARY:Basar (vorsortiert) Frühling/Sommer
DESCRIPTION:Neuer Ort\, gleiches Konzept! 😇\nAngeboten werden Baby- & Kinderkleidung nach Größen von 50 bis 176 und Geschlecht sortiert\, sowie Babyzubehör\, Umstandsmoden\, Spielwaren\, Bücher und Kinderfahrzeuge\, Kinderwagen\, Fahrräder und vieles mehr.\nDer Schwangerenvorverkauf\, sowie der Vorverkauf für ein Elternteil mit Baby max. 6 Monate\, startet um 12.00 Uhr. Bitte Mutterpass oder Kopie/Foto der Geburtsurkunde mitbringen.\n🍰Für das leibliche Wohl ist mit Kaffee und Kuchen\, sowie heißen Würstchen\, bestens gesorgt. ☕🌭\n🛍️Bitte genügend Bargeld und eine Tasche zum Shoppen mitbringen. 🙌\n❣️Kinderwagen müssen aus Brandschutzgründen draußen geparkt werden. Platz ist ausreichend vorhanden.\n🚗 In unmittelbarer Nähe befindet sich ein Parkplatz mit genügend Parkplätzen.\n🚉Von der S-Bahn Haltestelle „Sulzbach Nordbahnhof“ sind es ca. 5 Minuten Fußweg.\n🚌 Anfahrt mit dem Bus über Buslinie 253 – Haltestelle „Sulzbach Eichwaldhallen“. Bus hält direkt vor dem Veranstaltungsort.
URL:https://www.taunus4family.de/veranstaltung/basar-vorsortiert-fruehling-sommer/
LOCATION:Eichwaldhallen Sulzbach\, Am Sportplatz 6\, Sulzbach (Taunus)\, 65843
CATEGORIES:Basare und Flohmärkte
ATTACH;FMTTYPE=image/jpeg:https://www.taunus4family.de/wp-content/uploads/2025/02/Basar_22.3.25.jpg
ORGANIZER;CN="F%26ouml%3Brderverein%20der%20Kita%20Waldnest%20Sulzbach%20%28Taunus%29%20e.%20V.":MAILTO:waldnest-basar@gmx.de
END:VEVENT
END:VCALENDAR