BEGIN:VCALENDAR
VERSION:2.0
PRODID:-//taunus4family - ECPv5.14.1//NONSGML v1.0//EN
CALSCALE:GREGORIAN
METHOD:PUBLISH
X-WR-CALNAME:taunus4family
X-ORIGINAL-URL:https://www.taunus4family.de
X-WR-CALDESC:Veranstaltungen für taunus4family
BEGIN:VTIMEZONE
TZID:Europe/Helsinki
BEGIN:DAYLIGHT
TZOFFSETFROM:+0200
TZOFFSETTO:+0300
TZNAME:EEST
DTSTART:20240331T010000
END:DAYLIGHT
BEGIN:STANDARD
TZOFFSETFROM:+0300
TZOFFSETTO:+0200
TZNAME:EET
DTSTART:20241027T010000
END:STANDARD
END:VTIMEZONE
BEGIN:VEVENT
DTSTART;TZID=Europe/Helsinki:20240810T200000
DTEND;TZID=Europe/Helsinki:20240810T213000
DTSTAMP:20260424T200334
CREATED:20240807T070617Z
LAST-MODIFIED:20240816T143655Z
UID:48890-1723320000-1723325400@www.taunus4family.de
SUMMARY:Batnight im Freilichtmuseum Hessenpark
DESCRIPTION:Wer beim Anblick von Fledermaus-Jungtieren noch an die Mär vom blutsaugenden Ungetüm glaubt\, könnte bei der Batnight im Freilichtmuseum Hessenpark eines Besseren belehrt werden.  \nAm 10. August dreht sich dort alles um die Fledermaus. Unter der fachkundigen Leitung von Petra Gatz\, Referentin für Fledermausschutz beim NABU Hessen\, beginnt um 20 Uhr eine abendliche Tour durch das Museumsgelände. Treffpunkt und Abendkasse befinden sich am ausgeschilderten Tor 5 des Museums. Während der Tour erfährt man spannende Fakten über diese scheuen\, aber sehr nützlichen Tiere. \nZur Einstimmung gibt es eine kurze Einführung in die Biologie und Lebensweise der nachtaktiven Tiere. Dabei wird zwischen Arten\, die in Gebäuden leben\, und solchen\, die im Wald beheimatet sind\, unterschieden. Der Hessenpark ist ein wahres Paradies für Fledermäuse\, da er sowohl alte Bäume als auch historische Gebäude bietet\, die ideale Lebensräume darstellen. Zusätzlich sorgen Wiesen\, ökologisch bewirtschaftete Ackerflächen und angelegte Teiche für ein reiches Insektenvorkommen\, das als Nahrungsgrundlage dient. Im Sommer kann eine Fledermaus bis zu einem Kilogramm Insekten fangen. Doch außerhalb des Museums sind die Lebensbedingungen oft weniger ideal: Der Einsatz von Insektiziden und der Mangel an geeigneten Quartieren durch modernes Bauwesen gefährden die 25 einheimischen Fledermausarten stark. \nNach der Einführung beginnt der eigentliche Rundgang in Richtung Wasserflächen. Mithilfe eines Ultraschalldetektors werden die Rufe der Fledermäuse für alle Teilnehmer*innen hörbar gemacht. Geübte Ohren können dabei verschiedene Arten unterscheiden. In der Vergangenheit wurden bereits Zwergfledermäuse\, Wasserfledermäuse und Große Abendsegler gesichtet. \nWichtig ist zu beachten\, dass Jungtiere in freier Wildbahn keinesfalls berührt und stattdessen die Expert*innen des NABU informiert werden sollten. \nBei Regen muss der Rundgang leider ausfallen\, da die Fledermäuse dann nicht ausfliegen. \nEintritt\nErwachsene 15 €\, Kinder 8€ \n  \nWeiterer Termin\n23. August 2024 um 19:30 Uhr
URL:https://www.taunus4family.de/veranstaltung/batnight-im-freilichtmuseum-hessenpark/
LOCATION:Freilichtmuseum Hessenpark GmbH\, Laubweg 5\, Neu-Anspach\, 61267\, Deutschland
CATEGORIES:Natur und Tiere
ATTACH;FMTTYPE=image/jpeg:https://www.taunus4family.de/wp-content/uploads/2019/08/fledermaus_Nabu.jpg
ORGANIZER;CN="Freilichtmuseum%20Hessenpark":MAILTO:service@hessenpark.de
GEO:50.2800386;8.5298025
X-APPLE-STRUCTURED-LOCATION;VALUE=URI;X-ADDRESS=Freilichtmuseum Hessenpark GmbH Laubweg 5 Neu-Anspach 61267 Deutschland;X-APPLE-RADIUS=500;X-TITLE=Laubweg 5:geo:8.5298025,50.2800386
END:VEVENT
END:VCALENDAR