BEGIN:VCALENDAR
VERSION:2.0
PRODID:-//taunus4family - ECPv5.14.1//NONSGML v1.0//EN
CALSCALE:GREGORIAN
METHOD:PUBLISH
X-WR-CALNAME:taunus4family
X-ORIGINAL-URL:https://www.taunus4family.de
X-WR-CALDESC:Veranstaltungen für taunus4family
BEGIN:VTIMEZONE
TZID:Europe/Helsinki
BEGIN:DAYLIGHT
TZOFFSETFROM:+0200
TZOFFSETTO:+0300
TZNAME:EEST
DTSTART:20250330T010000
END:DAYLIGHT
BEGIN:STANDARD
TZOFFSETFROM:+0300
TZOFFSETTO:+0200
TZNAME:EET
DTSTART:20251026T010000
END:STANDARD
END:VTIMEZONE
BEGIN:VEVENT
DTSTART;TZID=Europe/Helsinki:20250423T100000
DTEND;TZID=Europe/Helsinki:20250423T110000
DTSTAMP:20260421T195401
CREATED:20250214T100902Z
LAST-MODIFIED:20250214T100902Z
UID:50214-1745402400-1745406000@www.taunus4family.de
SUMMARY:Bibliotheksralley anlässlich des Welttag des Buches
DESCRIPTION:Wusstet ihr\, dass der Welttag des Buches auf eine katalanische Tradition zurückgeht? Am Namenstag des Volksheiligen St. Georg ist es dort Brauch\, Rosen und Bücher zu verschenken. Doch der 23. April hat noch eine weitere symbolische Bedeutung: Es ist der Todestag von zwei der größten Schriftsteller der Geschichte – William Shakespeare und Miguel de Cervantes. \n1995 erklärte die UNESCO diesen Tag offiziell zum „Welttag des Buches“. Seitdem wird er weltweit gefeiert und steht für die Liebe zum Lesen\, die Bedeutung von Büchern und die Rechte von Autorinnen und Autoren. In Deutschland wird dieser besondere Tag jedes Jahr mit zahlreichen Aktionen gefeiert – Buchhandlungen\, Verlage\, Bibliotheken und Schulen laden Lesebegeisterte zu einem großen Lesefest ein. \n  \nDie Stadtbücherei im Kulturzentrum Badehaus lädt zur Bibliotheksralley anlässlich des Welttag des Buches ein. Bei erfolgreichem Abschluss erwarten euch spannende Preise. Geeignet für Kinder ab fünf Jahren.
URL:https://www.taunus4family.de/veranstaltung/bibliotheksralley-anlaesslich-des-welttag-des-buches/
LOCATION:Stadtbücherei im Badehaus Bad Soden\, Königsteiner Straße 86\, Bad Soden\, 65812\, Deutschland
CATEGORIES:Freizeit
ATTACH;FMTTYPE=image/jpeg:https://www.taunus4family.de/wp-content/uploads/2025/02/Unbenannt-2.jpg
GEO:50.1454992;8.5005558
X-APPLE-STRUCTURED-LOCATION;VALUE=URI;X-ADDRESS=Stadtbücherei im Badehaus Bad Soden Königsteiner Straße 86 Bad Soden 65812 Deutschland;X-APPLE-RADIUS=500;X-TITLE=Königsteiner Straße 86:geo:8.5005558,50.1454992
END:VEVENT
END:VCALENDAR