BEGIN:VCALENDAR
VERSION:2.0
PRODID:-//taunus4family - ECPv5.14.1//NONSGML v1.0//EN
CALSCALE:GREGORIAN
METHOD:PUBLISH
X-WR-CALNAME:taunus4family
X-ORIGINAL-URL:https://www.taunus4family.de
X-WR-CALDESC:Veranstaltungen für taunus4family
BEGIN:VTIMEZONE
TZID:Europe/Helsinki
BEGIN:DAYLIGHT
TZOFFSETFROM:+0200
TZOFFSETTO:+0300
TZNAME:EEST
DTSTART:20250330T010000
END:DAYLIGHT
BEGIN:STANDARD
TZOFFSETFROM:+0300
TZOFFSETTO:+0200
TZNAME:EET
DTSTART:20251026T010000
END:STANDARD
END:VTIMEZONE
BEGIN:VEVENT
DTSTART;VALUE=DATE:20250426
DTEND;VALUE=DATE:20250428
DTSTAMP:20260422T010533
CREATED:20250330T100552Z
LAST-MODIFIED:20250330T101237Z
UID:50740-1745625600-1745798399@www.taunus4family.de
SUMMARY:Boom! Design Festival 2025
DESCRIPTION:Design – Fashion – FoodTrucks\nJedes Jahr am letzten Aprilwochenende treffen sich Designer und Kunsthandwerker aus ganz Deutschland in Bad Homburg\, um stilvolle\, edle und außergewöhnliche Kreationen aus der Handmade-Szene zu präsentieren. \nFarbenfroh\, energiegeladen und unkonventionell\nSo lässt sich das BOOM! Designfestival in Bad Homburg perfekt beschreiben. Seit 2016 verwandelt sich die Kurstadt an einem ganzen Wochenende in ein kreatives Zentrum. Vom Kurhaus über die Louisenstraße bis zu den Louisen Arkaden reihen sich über 200 Stände aneinander\, gefüllt mit einzigartigen Design-Produkten und kulinarischen Köstlichkeiten aus Food Trucks. \nHier kommen Designliebhaber voll auf ihre Kosten: Von stilvollen Kissen\, Taschen und Kleidung aus edlen Stoffen über handgestrickte Accessoires\, Baby- und Kindermode\, einzigartige Schmuckstücke\, keramische Designobjekte und kunstvolle Papierskulpturen bis hin zu Buchstaben aus Beton\, innovativen Kleinmöbeln\, Retro-Designerbrillen und originellen Stofftieren aus Bio-Baumwollplüsch – alles mit Liebe handgefertigt. \nAbgerundet wird das Festival durch ein vielseitiges Musikprogramm mit internationalen Singer-Songwritern\, Rockbands und jungen Talenten aus den Bereichen Jazz und Akustik-Pop. \nDie Veranstaltungsfläche erstreckt sich im Herzen der Kurstadt am Taunus\, im und um das Kurhaus Bad Homburg\, in der Ladengalerie\, auf dem Kurhausvorplatz und im Kurhausgarten\, auf der Louisenstraße vom Kurhaus bis zur Kisseleffstraße sowie im Einkaufszentrum Louisen Arkaden mit dem Louisen Arkaden Platz. Überall tummeln sich Händler\, Foodtrucks und warten Überraschungen auf Freunde des Handgemachten. Es gibt viel zu entdecken\, und es gibt auch ein abwechslungsreiches Programm für Kinder. \nDer Eintritt zum Festival ist selbstverständlich kostenfrei. \nBesuchen Sie Kurhaus + Louisen Arkaden + Louisenstraße für weitere Informationen
URL:https://www.taunus4family.de/veranstaltung/boom-design-festival-bad-homburg-2025/
LOCATION:Kurhausvorplatz Bad Homburg\, Louisenstraße 58\, Bad Homburg v.d. Höhe\, 61348 \, Deutschland
CATEGORIES:Feste und Märkte,Freizeit
ATTACH;FMTTYPE=image/jpeg:https://www.taunus4family.de/wp-content/uploads/2024/01/BOOM03_Kurhaus_Bad-Homburg_©KUK.jpg
ORGANIZER;CN="Magistrat%20der%20Stadt%20Bad%20Homburg":MAILTO:info@bad-homburg.de
GEO:50.2271738;8.6174783
X-APPLE-STRUCTURED-LOCATION;VALUE=URI;X-ADDRESS=Kurhausvorplatz Bad Homburg Louisenstraße 58 Bad Homburg v.d. Höhe 61348  Deutschland;X-APPLE-RADIUS=500;X-TITLE=Louisenstraße 58:geo:8.6174783,50.2271738
END:VEVENT
END:VCALENDAR