BEGIN:VCALENDAR
VERSION:2.0
PRODID:-//taunus4family - ECPv5.14.1//NONSGML v1.0//EN
CALSCALE:GREGORIAN
METHOD:PUBLISH
X-WR-CALNAME:taunus4family
X-ORIGINAL-URL:https://www.taunus4family.de
X-WR-CALDESC:Veranstaltungen für taunus4family
BEGIN:VTIMEZONE
TZID:Europe/Helsinki
BEGIN:DAYLIGHT
TZOFFSETFROM:+0200
TZOFFSETTO:+0300
TZNAME:EEST
DTSTART:20250330T010000
END:DAYLIGHT
BEGIN:STANDARD
TZOFFSETFROM:+0300
TZOFFSETTO:+0200
TZNAME:EET
DTSTART:20251026T010000
END:STANDARD
END:VTIMEZONE
BEGIN:VEVENT
DTSTART;VALUE=DATE:20250509
DTEND;VALUE=DATE:20250728
DTSTAMP:20260422T182010
CREATED:20250502T135009Z
LAST-MODIFIED:20250502T135920Z
UID:50900-1746748800-1753660799@www.taunus4family.de
SUMMARY:Brüder-Grimm Festspiele Hanau 2025
DESCRIPTION:Die Brüder Grimm Festspiele in Hanau sind ein renommiertes Freilichttheaterfestival\, das jährlich von Mai bis Juli im überdachten Amphitheater im Park von Schloss Philippsruhe stattfindet. Mit über 80.000 Besuchern pro Saison zählen sie zu den größten Freilichtspielen Hessens. \nGeschichte und Entwicklung\nDie Festspiele wurden 1985 anlässlich des 200. Geburtstags von Jacob Grimm ins Leben gerufen. Ursprünglich als einmalige Veranstaltung geplant\, entwickelten sie sich aufgrund des großen Erfolgs zu einem jährlichen Ereignis. Seit 2000 finden die Aufführungen im eigens errichteten Amphitheater mit 1.230 überdachten Sitzplätzen statt. \nProgramm und Besonderheiten\nIm Mittelpunkt stehen moderne Inszenierungen der Märchen der Brüder Grimm\, oft als Uraufführungen. Das Programm umfasst Musicals\, Schauspiele und klassische Theaterstücke. Ein Highlight der Saison 2025 ist die Neuinterpretation von „Rapunzel“\, bei der über 1.000 Menschen Häkelblumen für das Bühnenbild beisteuern. \nNeben den Hauptaufführungen gibt es ein vielfältiges Rahmenprogramm mit Lesungen\, Gesprächsrunden\, Führungen hinter die Kulissen und Workshops für Kinder\, Jugendliche und Erwachsene. Ein besonderes Event ist die Benefizgala „Open Stage“ am 7. Juli 2025. \nAuf dem Programm stehen drei Familien Inszenierungen: \n\nDie Bremer Stadtmusikanten ab 7. Juni 2025\nHänsel und Gretel ab 20. Juni um 10 Uhr. Nur 17\,70 Euro mit Frühstück!\nRapunzel ab 7. Juni 2025\n\n  \nMehr Infos zu den Stücken hier.
URL:https://www.taunus4family.de/veranstaltung/brueder-grimm-festspiele-hanau-2025/
LOCATION:Amphitheater Schloss Philippsruhe\, Landstraße\, Hanau\, 63454\, Deutschland
CATEGORIES:Theater und Bühnen
ATTACH;FMTTYPE=image/jpeg:https://www.taunus4family.de/wp-content/uploads/2024/05/Unbenannt-1.jpg
ORGANIZER;CN="Magistrat%20der%20Stadt%20Hanau":MAILTO:webmaster@hanau.de
GEO:50.1277374;8.8861965
X-APPLE-STRUCTURED-LOCATION;VALUE=URI;X-ADDRESS=Amphitheater Schloss Philippsruhe Landstraße Hanau 63454 Deutschland;X-APPLE-RADIUS=500;X-TITLE=Landstraße:geo:8.8861965,50.1277374
END:VEVENT
END:VCALENDAR