BEGIN:VCALENDAR
VERSION:2.0
PRODID:-//taunus4family - ECPv5.14.1//NONSGML v1.0//EN
CALSCALE:GREGORIAN
METHOD:PUBLISH
X-WR-CALNAME:taunus4family
X-ORIGINAL-URL:https://www.taunus4family.de
X-WR-CALDESC:Veranstaltungen für taunus4family
BEGIN:VTIMEZONE
TZID:Europe/Helsinki
BEGIN:DAYLIGHT
TZOFFSETFROM:+0200
TZOFFSETTO:+0300
TZNAME:EEST
DTSTART:20240331T010000
END:DAYLIGHT
BEGIN:STANDARD
TZOFFSETFROM:+0300
TZOFFSETTO:+0200
TZNAME:EET
DTSTART:20241027T010000
END:STANDARD
END:VTIMEZONE
BEGIN:VEVENT
DTSTART;TZID=Europe/Helsinki:20241123T150000
DTEND;TZID=Europe/Helsinki:20241123T161500
DTSTAMP:20260426T000853
CREATED:20240411T091714Z
LAST-MODIFIED:20240411T091714Z
UID:47983-1732374000-1732378500@www.taunus4family.de
SUMMARY:Bummelkasten - Irgendwas Bestimmtes
DESCRIPTION:Der Bummelkasten tourt mit tollen Liedern für die ganze Familie durch Deutschland!\nBummelkastens Musikvideos werden täglich tausendfach geklickt. Die Berliner Ein-Mann-Band hat sich mit ihrem komplett mundgemachten Debutalbum „Irgendwas Bestimmtes“ genüsslich in die deutschen Kindermusikregale gefläzt und euphorisiert damit Kinder\, Eltern und Nicht-Eltern. Ihre Songs entfalten einen Sog\, dem man sich nur schwer entziehen kann. Kein Wunder: Dieser popfidele A-Capella-Beatbox-Sound – welcher mit seinen detailreichen Arrangements sowie seiner vokalen als auch musikalischen Verspieltheit herrlich ungeleckt und unterhaltsam daherkommt -sucht nicht nur in der Kindersparte seinesgleichen. Mit anspruchsvollen Texten und eigensinnigem Humor lehnt sich Bummelkasten weit aus der Schublade und ergründet damit künstlerisches Neuland. \nA-capella-Beatbox-Sound für die ganze Familie\n„Kommt ihr bitte!?“ – die oft benutzte\, höflich geschönte Phrase vieler Erziehungsberechtigter – wird im gleichnamigen Song dermaßen penetrant vorgeführt und so oft von einem infantilen „Jaahaa“ erwidert\, dass es fast wehtut. In „Wandern“\, einem sündhaft lässigen Song übers – nun ja – Wandern\, verschmelzen die Themen Natur und Medienkonsum. Doch es sind vor allem Bummelkastens schräge Figuren\, bei denen Kinder auf ihre Kosten kommen: Max\, der Rolltreppe fahrende Klopapierdieb. Susi\, die härteste aller Prinzessinnen\, die gerne Ponywurst grillt und mit dem Monstertruck zum Bäcker fährt. Shiny\, die Lichterfee\, die sich einen Trip durchs Sonnensystem gönnt\, aber von jedem bereisten Planeten ziemlich schnell die Schnauze voll hat. Bulli Battmann\, ein fieser Schulhofschreck\, der abends in sein Kissen weint oder Hausmeister Klaus\, der smarteste Hausmeister ever. \nSeit dem ersten Lollapalooza Festival in Berlin war Bummelkasten als Resident das jährliche Highlight vom „Kidzapalooza“\, dem parallel laufenden Familienableger. Bühnenauftritte bestreitet er lax aus dem Sessel heraus. Neben den witzig performten Songs sind es vor allem seine Loopstation-Einlagen\, die großen Spaß machen. Also nehmt eure klebrigen Finger vom Sofa\, zieht die Stoppersocken aus und geht nochmal pullern: \nDer Bummelkasten ist in der Stadt! \nTickets ab 26\,30 EUR über tickets@bad-vilbel.de \n 
URL:https://www.taunus4family.de/veranstaltung/bummelkasten-irgendwas-bestimmtes/
LOCATION:VILCO\, Günther-Biwer-Platz 1\, Bad Vilbel\, 61118\, Deutschland
CATEGORIES:Theater und Bühnen
ATTACH;FMTTYPE=image/jpeg:https://www.taunus4family.de/wp-content/uploads/2024/04/Unbenannt-3.jpg
ORGANIZER;CN="Markus%20Gardian%20Booking%20GmbH":MAILTO:info@markusgardian.de
GEO:50.1822293;8.7388596
X-APPLE-STRUCTURED-LOCATION;VALUE=URI;X-ADDRESS=VILCO Günther-Biwer-Platz 1 Bad Vilbel 61118 Deutschland;X-APPLE-RADIUS=500;X-TITLE=Günther-Biwer-Platz 1:geo:8.7388596,50.1822293
END:VEVENT
END:VCALENDAR