BEGIN:VCALENDAR
VERSION:2.0
PRODID:-//taunus4family - ECPv5.14.1//NONSGML v1.0//EN
CALSCALE:GREGORIAN
METHOD:PUBLISH
X-WR-CALNAME:taunus4family
X-ORIGINAL-URL:https://www.taunus4family.de
X-WR-CALDESC:Veranstaltungen für taunus4family
BEGIN:VTIMEZONE
TZID:Europe/Helsinki
BEGIN:DAYLIGHT
TZOFFSETFROM:+0200
TZOFFSETTO:+0300
TZNAME:EEST
DTSTART:20250330T010000
END:DAYLIGHT
BEGIN:STANDARD
TZOFFSETFROM:+0300
TZOFFSETTO:+0200
TZNAME:EET
DTSTART:20251026T010000
END:STANDARD
END:VTIMEZONE
BEGIN:VEVENT
DTSTART;TZID=Europe/Helsinki:20250713T153000
DTEND;TZID=Europe/Helsinki:20250713T170000
DTSTAMP:20260422T143141
CREATED:20250430T054056Z
LAST-MODIFIED:20250430T064015Z
UID:50884-1752420600-1752426000@www.taunus4family.de
SUMMARY:Burgfestspiele Eppstein 2025
DESCRIPTION:Schauspiel\, Kabarett und Operette in mittelalterlicher Atmosphäre \nDie Eppsteiner Burg ist eine der ältesten Open-Air-Theaterspielstätten des Rhein-Main Gebietes. Seit 1913 finden hier in den Monaten Juni und Juli die Burgfestspiele Eppstein statt. Auch für diese Saison haben Stadt und Kulturkreis Eppstein wieder ein buntes Festivalprogramm zusammengestellt. Am 28. Juni eröffnen die Eppsteiner Burgschauspieler traditionell die Burgfestspiele. Natürlich wird es auch wieder eine Aufführung für Kinder und Erwachsene geben. \nRumpelstilzchen\nDas L’UNA THEATER bringt das die sinnig gewitzte Komödie mit Masken\, Musik und Marotten auf die Bühne. Thema: Leistungsdruck / Selbstbestimmung….\nDer großspurige Müller fordert Dinge von seiner Tochter\, die sie zu leisten nicht im Stande ist. Wie sie sich aus dieser Zwickmühle befreit und ihr Leben selber in die Hand nimmt ist das zentrale Thema dieser Theaterfassung. Frei nach den Gebrüdern Grimm für Kinder von 4-10 Jahren.. Es gilt freie Sitzplatzwahl; auf der Burg gibt es keine Bewirtung. \n\nPreise\nErwachsene: 5\,00 €\nKinder: 5\,00 €\nKartenvorverkauf \nEintrittskarten für die Kinderveranstaltung „Rumpelstilzchen“ sind unter anderem im Eppsteiner Burglädchen – nicht im Bürgerbüro und nicht online – erhältlich. Informationen über das komplette Programm\, Termine und Eintrittspreise sind auf der Homepage www.eppstein.de oder im Veranstaltungskalender der Stadt Eppstein einzusehen. Der Veranstaltungskalender liegt im Bürgerbüro\, den beiden Rathäusern und im Museum der Burg Eppstein aus. \nBei schlechtem Wetter findet die Veranstaltung bei freier Sitzplatzwahl im Bürgerhaus Eppstein\, Rossertstraße 21a\, statt.
URL:https://www.taunus4family.de/veranstaltung/burgfestspiele-2025/
LOCATION:Burg Eppstein\, Auf der Burg\, Eppstein\, 65817 \, Deutschland
CATEGORIES:Theater und Bühnen
ATTACH;FMTTYPE=image/jpeg:https://www.taunus4family.de/wp-content/uploads/2017/03/Eppstein_Burg.jpg
ORGANIZER;CN="Kulturkreis%20Eppstein%20e.%20V.":MAILTO:kontakt@kk-eppstein.de
GEO:50.1404111;8.3929271
X-APPLE-STRUCTURED-LOCATION;VALUE=URI;X-ADDRESS=Burg Eppstein Auf der Burg Eppstein 65817  Deutschland;X-APPLE-RADIUS=500;X-TITLE=Auf der Burg:geo:8.3929271,50.1404111
END:VEVENT
END:VCALENDAR