BEGIN:VCALENDAR
VERSION:2.0
PRODID:-//taunus4family - ECPv5.14.1//NONSGML v1.0//EN
CALSCALE:GREGORIAN
METHOD:PUBLISH
X-WR-CALNAME:taunus4family
X-ORIGINAL-URL:https://www.taunus4family.de
X-WR-CALDESC:Veranstaltungen für taunus4family
BEGIN:VTIMEZONE
TZID:Europe/Helsinki
BEGIN:DAYLIGHT
TZOFFSETFROM:+0200
TZOFFSETTO:+0300
TZNAME:EEST
DTSTART:20250330T010000
END:DAYLIGHT
BEGIN:STANDARD
TZOFFSETFROM:+0300
TZOFFSETTO:+0200
TZNAME:EET
DTSTART:20251026T010000
END:STANDARD
END:VTIMEZONE
BEGIN:VEVENT
DTSTART;VALUE=DATE:20250416
DTEND;VALUE=DATE:20250908
DTSTAMP:20260421T195947
CREATED:20241112T171934Z
LAST-MODIFIED:20250715T125018Z
UID:49701-1744761600-1757289599@www.taunus4family.de
SUMMARY:Burgfestspiele Bad Vilbel 2025
DESCRIPTION:Im Herzen von Bad Vilbel\, direkt am Ufer der Nidda\, erhebt sich die eindrucksvolle Ruine einer historischen Wasserburg. Seit 1987 verwandeln die Burgfestspiele diese einzigartige Kulisse in einen lebendigen Schauplatz für Theaterfreunde jeden Alters. Mit einem vielfältigen und anspruchsvollen Spielplan ziehen die Festspiele jährlich ein breites Publikum an. Sie sind die besucherstärksten Festspiele Hessens und bieten während der Sommermonate über 200 Vorstellungen. \nEin besonderer Schwerpunkt liegt auf dem Kinder- und Jugendtheater ab 5 Jahren. Mit einer bunten Mischung aus Oper\, Schauspiel und Musical spricht dieser Programmbereich gezielt junge Zuschauer an. Themen wie Musik\, Abenteuer und Freundschaft stehen dabei im Mittelpunkt\, wobei die Stücke sowohl humorvolle als auch tiefgründige Elemente vereinen. \nDarüber hinaus werden im Burgkeller\, der sich durch seine intime Atmosphäre auszeichnet\, abends kleinere Inszenierungen aufgeführt. \nFür das Familienprogramm sind folgende Veranstaltungen vorgesehen: \nDer Räuber Hotzenplotz\, 04.05. um 12 Uhr (Premiere)\nSchauspiel ab 5 Jahren nach Otfried Preußler \nGroßmutters Kaffeemühle ist weg. Das kann nur der üble Räuber Hotzenplotz gewesen sein. Kasperl will sie unbedingt wieder und gerät dabei in die Fänge des Zauberers Petrosilius Zwackelmann\, trifft die Fee Amaryllis und bringt mit seinem besten Freund Seppel das gute Stück zurück. \nPeter Pan\, 11.05. um 12 Uhr (Premiere)\nMusical ab 5 Jahren nach James M. Barrie \nWendy und ihre Brüder liegen schlafend im Bett\, als Peter Pan auf der Suche nach seinem Schatten zum Fenster hereinkommt. Zusammen mit ihm fliegen die drei Geschwister nach Nimmerland\, wo sie ein Abenteuer nach dem anderen erleben und auf Indianerinnen und Indianer\, ein tickendes Krokodil und den gefürchteten Kapitän Hook treffen … \nDas doppelte Lottchen\, 18.05. um 12 Uhr  (Premiere)\nSchauspiel von Erich Kästner ab 7 Jahren \nDas Zwillingspaar Lotte und Luise weiß nicht voneinander\, bis es sich in einem Ferienheim zufällig trifft. Die beiden freunden sich an und beschließen die Rollen zu tauschen\, und zum jeweils anderen Elternteil heimzukehren. Dadurch stiften sie allerlei Verwirrung bis am Ende ihre Eltern wieder zueinanderfinden und das familiäre Happy-End gefeiert werden kann. \nWest Side Story\, 11.07. bis 04.09.25\nMusical nach einer Idee von Jerome Robbins \nIn West Side Story träumen junge Puerto-Ricanerinnen in New York von einem besseren Leben in Amerika. Maria\, ein Mitglied der Gang „Sharks“\, verliebt sich in Tony von den rivalisierenden „Jets“. Doch ihre Liebe scheitert an der Feindschaft der Gangs – ähnlich wie bei Romeo und Julia. Leonard Bernstein bringt das klassische Drama mit moderner Musik in die Realität der Großstadt. \n  \n  \nMehr Info hier! Onlinetickets hier.
URL:https://www.taunus4family.de/veranstaltung/burgfestspiele-bad-vilbel-2025/
LOCATION:Wasserburg Bad Vilbel\, Klaus-Havenstein-Weg 1\, Bad Vilbel\, 61118 \, Deutschland
CATEGORIES:Theater und Bühnen
ATTACH;FMTTYPE=image/jpeg:https://www.taunus4family.de/wp-content/uploads/2024/11/Screenshot-2025-07-15-102724.jpg
ORGANIZER;CN="Magistrat%20der%20Stadt%20Bad%20Vilbel":MAILTO:Claus.Kunzmann@bad-vilbel.de
GEO:50.1852695;8.7438708
X-APPLE-STRUCTURED-LOCATION;VALUE=URI;X-ADDRESS=Wasserburg Bad Vilbel Klaus-Havenstein-Weg 1 Bad Vilbel 61118  Deutschland;X-APPLE-RADIUS=500;X-TITLE=Klaus-Havenstein-Weg 1:geo:8.7438708,50.1852695
END:VEVENT
END:VCALENDAR