BEGIN:VCALENDAR
VERSION:2.0
PRODID:-//taunus4family - ECPv5.14.1//NONSGML v1.0//EN
CALSCALE:GREGORIAN
METHOD:PUBLISH
X-WR-CALNAME:taunus4family
X-ORIGINAL-URL:https://www.taunus4family.de
X-WR-CALDESC:Veranstaltungen für taunus4family
BEGIN:VTIMEZONE
TZID:Europe/Helsinki
BEGIN:DAYLIGHT
TZOFFSETFROM:+0200
TZOFFSETTO:+0300
TZNAME:EEST
DTSTART:20240331T010000
END:DAYLIGHT
BEGIN:STANDARD
TZOFFSETFROM:+0300
TZOFFSETTO:+0200
TZNAME:EET
DTSTART:20241027T010000
END:STANDARD
BEGIN:DAYLIGHT
TZOFFSETFROM:+0200
TZOFFSETTO:+0300
TZNAME:EEST
DTSTART:20250330T010000
END:DAYLIGHT
BEGIN:STANDARD
TZOFFSETFROM:+0300
TZOFFSETTO:+0200
TZNAME:EET
DTSTART:20251026T010000
END:STANDARD
END:VTIMEZONE
BEGIN:VEVENT
DTSTART;VALUE=DATE:20241214
DTEND;VALUE=DATE:20250113
DTSTAMP:20260423T185005
CREATED:20240618T090031Z
LAST-MODIFIED:20241030T184023Z
UID:48508-1734134400-1736726399@www.taunus4family.de
SUMMARY:Carl Busch - The Great Christmas Circus 2024
DESCRIPTION:Eintauchen in die Magie des Circus: Der betörende Duft der Manege\, das eindrucksvolle Fauchen der Raubkatzen und das rhythmische Stampfen der galoppierenden Pferde. Die flinken Kommandos der Akrobaten\, die in die Luft fliegen\, und die fröhlichen Clowns in glitzernden Kostümen. All das und noch viel mehr erwartet Sie – unvergessliche Vorstellungen und Erinnerungen\, die wir mit dem Zauber des Circus verbinden. \nVom 14. Dezember 2024 bis 12. Januar 2025 heißt es zum 11. Mal: Manege frei für den „Great Christmas Circus Frankfurt“ auf dem Festplatz am Ratsweg. Nach dem sensationellen Erfolg der letzten Ausgabe\, die alle Erwartungen übertroffen und einen neuen Besucherrekord aufgestellt hat\, sieht sich der Circus\, auch dieses Jahr unter dem Motto „Sensationeller wird’s nicht!“ eine Weltklasse-Show zu präsentieren\, die Sie in Staunen versetzen\, begeistern und glücklich machen wird. \nEin besonderes Highlight ist Bello Nock\, der waghalsigste Clown der Gegenwart aus den USA. Mit seinen atemberaubenden Kunststücken auf dem Todesrad und seinen humorvollen Darbietungen sorgt er für unvergessliche Momente. Ebenso beeindruckend sind die legendäre 7er-Pyramide auf dem Hochseil\, eine Schleuderbrett-Sensation aus der Mongolei\, eine Boomerang-Jonglage sowie die italienischen Shootingstars der Hand-auf-Hand-Akrobatik und viele weitere spektakuläre Attraktionen. \nAuch die 11. Ausgabe des Frankfurter Great Christmas Circus wird dank erstklassiger Artisten\, modernster Lichttechnik\, kreativer Inszenierungen und mitreißender Livemusik von einem achtköpfigen Orchester erneut ein beeindruckendes Erlebnis. Carl Busch präsentiert erneut Circus Tradition auf höchstem Niveau. \nVerpassen Sie nicht diese einmalige Gelegenheit\, Teil einer unvergesslichen Zirkusshow zu werden!\n  \nVorstellungszeiten  \nPremiere: Freitag\, 14. Dezember\, um 20 Uhr\n16.\, 17.\, 18. und 19. Dezember sowie 6.\, 7.\, 8. und 9. Januar nur 15.30 Uhr\ndanach täglich um 15.30 und 19.30 Uhr\nSonntags\, samstags und an Feiertagen um 15 und 18.30 Uhr\nHeiligabend\, 24. Dezember\, nur um 14 Uhr\nSilvester\, 31. Dezember\, 15.30 und 19.30 Uhr \n– jede Vorstellung dauert zweieinhalb Stunden (inklusive 20 Minuten Pause) \n  \nTickets (ab 15 €) sind ab sofort auf der Circus-Homepage\, bei Frankfurt Ticket RheinMain\, Eventim und an allen bekannten CTS-Vorverkaufsstellen erhältlich. Sie sitzen wie in den vergangenen Jahren auf nummerierten Einzelsitzen in unserem 2000 Besucher fassenden\, blau-weißen Zeltpalast\, die Sie in unserem Ticketsystem punktgenau auswählen können. \n  \nFreut Euch schon jetzt auf die große Jubiläumsshow! \n 
URL:https://www.taunus4family.de/veranstaltung/carl-busch-the-great-christmas-circus-2024/
LOCATION:Festplatz am Ratsweg\, Am Bornheimer Hang\, Frankfurt am Main\, Hessen\, 60386\, Deutschland
CATEGORIES:Freizeit,Theater und Bühnen
ATTACH;FMTTYPE=image/jpeg:https://www.taunus4family.de/wp-content/uploads/2024/06/Screenshot-2024-10-30-193932.jpg
ORGANIZER;CN="Circus%20Carl%20Busch":MAILTO:circus-carl-busch@t-online.de
GEO:50.1230058;8.7250899
X-APPLE-STRUCTURED-LOCATION;VALUE=URI;X-ADDRESS=Festplatz am Ratsweg Am Bornheimer Hang Frankfurt am Main Hessen 60386 Deutschland;X-APPLE-RADIUS=500;X-TITLE=Am Bornheimer Hang:geo:8.7250899,50.1230058
END:VEVENT
END:VCALENDAR