BEGIN:VCALENDAR
VERSION:2.0
PRODID:-//taunus4family - ECPv5.14.1//NONSGML v1.0//EN
CALSCALE:GREGORIAN
METHOD:PUBLISH
X-WR-CALNAME:taunus4family
X-ORIGINAL-URL:https://www.taunus4family.de
X-WR-CALDESC:Veranstaltungen für taunus4family
BEGIN:VTIMEZONE
TZID:Europe/Helsinki
BEGIN:DAYLIGHT
TZOFFSETFROM:+0200
TZOFFSETTO:+0300
TZNAME:EEST
DTSTART:20250330T010000
END:DAYLIGHT
BEGIN:STANDARD
TZOFFSETFROM:+0300
TZOFFSETTO:+0200
TZNAME:EET
DTSTART:20251026T010000
END:STANDARD
END:VTIMEZONE
BEGIN:VEVENT
DTSTART;VALUE=DATE:20250327
DTEND;VALUE=DATE:20250330
DTSTAMP:20260420T002804
CREATED:20250306T120626Z
LAST-MODIFIED:20250306T121427Z
UID:50436-1743033600-1743292799@www.taunus4family.de
SUMMARY:Charitysale - Shopping mit Herz
DESCRIPTION:Der CharitySale startet mit frischen Frühlingsangeboten!\nAb Donnerstag\, 27. März 2025 öffnet der CharitySale mit einer neuen Auswahl an Frühlingsmode! Aufgrund des erwarteten großen Interesses wird gebeten\, sich vorab per E-Mail für einen der folgenden Termine anzumelden: \n📅 Donnerstag\, 27.03.2025 | 18:00 – 21:00 Uhr📅 Freitag\, 28.03.2025 | 11:00 – 18:00 Uhr📅 Samstag\, 29.03.2025 | 11:00 – 16:00 Uhr \nExtra-Schnäppchenchance: Wer vorher noch ein tolles Angebot ergattern möchte\, kann bis zum 20. März 2025 10 % Rabatt auf das Winterangebot nutzen – immer donnerstags ab 18 Uhr in der Adelheidstraße 10\, Königstein. Für diese Termine ist keine Anmeldung erforderlich! \nEuer Einkauf bewirkt Großes: Sämtliche Erlöse fließen in die Stiftung Childaid Network\, um benachteiligten Kindern und Jugendlichen in Assam und Meghalaya Bildung und Zukunftsperspektiven zu ermöglichen!
URL:https://www.taunus4family.de/veranstaltung/charitysale-copy/
LOCATION:Ladenlokal Childaid Network\, Adelheidstraße 10\, Königstein\, 61462\, Deutschland
CATEGORIES:Basare und Flohmärkte,Charity
ATTACH;FMTTYPE=image/jpeg:https://www.taunus4family.de/wp-content/uploads/2019/02/iStock-VICHAILAO.jpg
ORGANIZER;CN="Childaid%20network":MAILTO:info@childaid.net
GEO:50.1833228;8.4696578
X-APPLE-STRUCTURED-LOCATION;VALUE=URI;X-ADDRESS=Ladenlokal Childaid Network Adelheidstraße 10 Königstein 61462 Deutschland;X-APPLE-RADIUS=500;X-TITLE=Adelheidstraße 10:geo:8.4696578,50.1833228
END:VEVENT
END:VCALENDAR