BEGIN:VCALENDAR
VERSION:2.0
PRODID:-//taunus4family - ECPv5.14.1//NONSGML v1.0//EN
CALSCALE:GREGORIAN
METHOD:PUBLISH
X-WR-CALNAME:taunus4family
X-ORIGINAL-URL:https://www.taunus4family.de
X-WR-CALDESC:Veranstaltungen für taunus4family
BEGIN:VTIMEZONE
TZID:Europe/Helsinki
BEGIN:DAYLIGHT
TZOFFSETFROM:+0200
TZOFFSETTO:+0300
TZNAME:EEST
DTSTART:20240331T010000
END:DAYLIGHT
BEGIN:STANDARD
TZOFFSETFROM:+0300
TZOFFSETTO:+0200
TZNAME:EET
DTSTART:20241027T010000
END:STANDARD
END:VTIMEZONE
BEGIN:VEVENT
DTSTART;VALUE=DATE:20241102
DTEND;VALUE=DATE:20241118
DTSTAMP:20260423T105107
CREATED:20241029T095314Z
LAST-MODIFIED:20241029T095931Z
UID:49515-1730505600-1731887999@www.taunus4family.de
SUMMARY:Circus Alberti-Rolina in Oberursel
DESCRIPTION:Manege Frei für eine Circus Show der Sonderklasse\nErleben Sie traditionellen Zirkus hautnah! \nBegleitet von Clown George Cloony\, der humorvoll durch das Programm führt\, erleben Sie ein Spektakel aus artistischen Highlights: Tempo Jonglage von John\, faszinierende Netzartistik und spektakuläre Ringakrobatik bis zur Zirkuskuppel. Brandon sorgt mit seiner waghalsigen Rola-Rola-Darbietung für atemlose Spannung im Publikum. \nIn der Tierwelt faszinieren die Gebrüder Ortmann mit ihrem einzigartigen Engagement für Tiere: \n\nAndy Ortmann präsentiert exotische Tiere wie Kamele und Antilopen\, begleitet von seinem Sohn Sonny mit einer charmanten Esel-Dressur.\nTony Ortmann begeistert mit beeindruckenden Pferdedressuren\, die die Eleganz von Friesen und Arabern in Szene setzen.\nNico Ortmann bietet Einblicke in die Welt der Reptilien und ermöglicht Kindern direkten Kontakt zu Schlangen\, Schildkröten und mehr.\nTino Ortmann pflegt liebevoll seine Stiere und Ochsen und setzt auf artgerechte Haltung und Fürsorge.\n\nTierschutz steht für den Zirkus Rolina an oberster Stelle. Die Zusammenarbeit mit Veterinärämtern und ein vorbildliches Tierbestandsbuch garantieren das Wohl der Tiere. Unsere Besucher können sich täglich bei der Tierschau selbst davon überzeugen. \nErleben Sie eine einzigartige Mischung aus Tradition\, artistischer Spitzenklasse und echter Tierliebe im Zirkus Rolina! \n  \nTermine \nWochentags 17.00 Uhr\nSa. + So. 15:00 Uhr\nMo. + Di. = Ruhetage \n  \nEintrittskarten \nMi. + Fr. Großer Familientag ab 10 €\nDo.: Erwachsene zahlen Kinderpreise\nHotline: 0173 188 30 44 \n  \nBei taunus4family gibt es Freikarten zu gewinnen!
URL:https://www.taunus4family.de/veranstaltung/circus-alberti-rolina-in-oberursel/
LOCATION:Rolls Royce Wiese\, Steinmühlenweg/Hohemarkstr.\, Oberursel\, 61440\, Deutschland
CATEGORIES:Freizeit,Theater und Bühnen
ATTACH;FMTTYPE=image/jpeg:https://www.taunus4family.de/wp-content/uploads/2024/10/Unbenanntqweqweweqwqe-1-e1730195523629.jpeg
ORGANIZER;CN="Circus%20Alberti":MAILTO:circusrolina@gmail.com
GEO:50.2083134;8.568353
X-APPLE-STRUCTURED-LOCATION;VALUE=URI;X-ADDRESS=Rolls Royce Wiese Steinmühlenweg/Hohemarkstr. Oberursel 61440 Deutschland;X-APPLE-RADIUS=500;X-TITLE=Steinmühlenweg/Hohemarkstr.:geo:8.568353,50.2083134
END:VEVENT
END:VCALENDAR