BEGIN:VCALENDAR
VERSION:2.0
PRODID:-//taunus4family - ECPv5.14.1//NONSGML v1.0//EN
CALSCALE:GREGORIAN
METHOD:PUBLISH
X-WR-CALNAME:taunus4family
X-ORIGINAL-URL:https://www.taunus4family.de
X-WR-CALDESC:Veranstaltungen für taunus4family
BEGIN:VTIMEZONE
TZID:Europe/Helsinki
BEGIN:DAYLIGHT
TZOFFSETFROM:+0200
TZOFFSETTO:+0300
TZNAME:EEST
DTSTART:20250330T010000
END:DAYLIGHT
BEGIN:STANDARD
TZOFFSETFROM:+0300
TZOFFSETTO:+0200
TZNAME:EET
DTSTART:20251026T010000
END:STANDARD
END:VTIMEZONE
BEGIN:VEVENT
DTSTART;VALUE=DATE:20250606
DTEND;VALUE=DATE:20250630
DTSTAMP:20260419T162232
CREATED:20250601T134550Z
LAST-MODIFIED:20250601T134808Z
UID:51178-1749168000-1751241599@www.taunus4family.de
SUMMARY:Circus-Theater Roncalli kommt nach Frankfurt
DESCRIPTION:Vom 6. bis 29. Juni 2025 gastiert das Circus-Theater Roncalli mit seinem weiß-blauen Zeltpalast wieder auf dem Festplatz am Ratsweg in Frankfurt – mit dabei: Bernhard Pauls neueste Show „ARTistART“\, eine zauberhafte Hommage an die Welt der Kunst. \nIm laut Andy Warhol „wundervollsten Circus der Welt“ begegnen sich Zirkus und Kunst auf magische Weise. Roncalli verneigt sich vor Ikonen wie Frida Kahlo und Keith Haring und entführt das Publikum in eine poetische Traumwelt aus Artistik\, Clownerie und nostalgischer Atmosphäre. \nBesonderes Highlight: Lili Paul-Roncalli\, Tochter des Gründers und „Let’s Dance“-Gewinnerin\, zeigt erstmals in Frankfurt ihre beeindruckende Kontorsionskunst – inspiriert von Salvador Dalí. \nSeit der Premiere 1976 in Bonn steht Roncalli für die künstlerische Erneuerung der Circuswelt. Gastspiele führten das Ensemble von Köln bis New York\, von Wien bis Moskau. Bernhard Pauls visionäre Arbeit wurde mehrfach ausgezeichnet – unter anderem mit dem Deutschen Verdienstkreuz. \nArtistik\, Kunst und Magie auf höchstem Niveau\nWas einst mit einem Jugendtraum und einem alten Circus-Wagen begann\, ist heute eines der weltweit renommiertesten Live-Entertainment-Unternehmen: Circus-Theater Roncalli. Mit 80 historischen Wagen\, nostalgischen Foodtrucks und rund 100 Künstlern\, Musikern und Technikern entsteht das unverwechselbare Roncalli-Flair. Internationale Spitzenartisten und preisgekrönte Clowns begeistern mit einer poetischen Show voller Magie und Emotion. \nDas ikonische Zelt bietet 1.316 Gästen Platz\, beleuchtet von über 10.000 LED-Lichtern und Messinglampen im nostalgischen Stil. Seit 2018 verzichtet Roncalli vollständig auf Tiere – ganz im Zeichen eines modernen Circus. \n\n\n\n\n\nSie sehen gerade einen Platzhalterinhalt von Standard. Um auf den eigentlichen Inhalt zuzugreifen\, klicken Sie auf den Button unten. Bitte beachten Sie\, dass dabei Daten an Drittanbieter weitergegeben werden. \n Inhalt entsperren Erforderlichen Service akzeptieren und Inhalte entsperren \n Mehr Informationen \n\n\n\nVon New York nach Frankfurt\nIm Winter 2023 feierte Roncalli ein umjubeltes US-Debüt im Big Apple Circus in New York – mit über 100.000 Besuchern\, darunter Stars wie Robert De Niro und Scarlett Johansson. Nun kommt ein Teil des gefeierten Ensembles nach Frankfurt: mit Tanz\, Livemusik\, Clownerie und spektakulärer Artistik – mitreißend\, fantasievoll\, einzigartig! \nBegleitet wird das Programm vom Roncalli Royal Orchestra unter Leitung von Georg Pommer – seit 47 Jahren musikalisches Herzstück der Show. \n\nJetzt Tickets sichern!Erhältlich unter www.roncalli.de\, telefonisch unter +49 (0) 69 – 677 739 99 sowie ab dem 6. Juni direkt an der Circuskasse.
URL:https://www.taunus4family.de/veranstaltung/circus-theater-roncalli-kommt-nach-frankfurt/
LOCATION:Festplatz am Ratsweg\, Am Bornheimer Hang\, Frankfurt am Main\, Hessen\, 60386\, Deutschland
CATEGORIES:Theater und Bühnen
ATTACH;FMTTYPE=image/jpeg:https://www.taunus4family.de/wp-content/uploads/2025/06/38338415-roncalli-royal-orchestra-Thomas-Bittera.jpg
ORGANIZER;CN="Circus%20Roncalli%20GmbH":MAILTO:circus@roncalli.de
GEO:50.1230058;8.7250899
X-APPLE-STRUCTURED-LOCATION;VALUE=URI;X-ADDRESS=Festplatz am Ratsweg Am Bornheimer Hang Frankfurt am Main Hessen 60386 Deutschland;X-APPLE-RADIUS=500;X-TITLE=Am Bornheimer Hang:geo:8.7250899,50.1230058
END:VEVENT
END:VCALENDAR