BEGIN:VCALENDAR
VERSION:2.0
PRODID:-//taunus4family - ECPv5.14.1//NONSGML v1.0//EN
CALSCALE:GREGORIAN
METHOD:PUBLISH
X-WR-CALNAME:taunus4family
X-ORIGINAL-URL:https://www.taunus4family.de
X-WR-CALDESC:Veranstaltungen für taunus4family
BEGIN:VTIMEZONE
TZID:Europe/Helsinki
BEGIN:DAYLIGHT
TZOFFSETFROM:+0200
TZOFFSETTO:+0300
TZNAME:EEST
DTSTART:20260329T010000
END:DAYLIGHT
BEGIN:STANDARD
TZOFFSETFROM:+0300
TZOFFSETTO:+0200
TZNAME:EET
DTSTART:20261025T010000
END:STANDARD
END:VTIMEZONE
BEGIN:VEVENT
DTSTART;TZID=Europe/Helsinki:20260530T130000
DTEND;TZID=Europe/Helsinki:20260530T144500
DTSTAMP:20260422T034134
CREATED:20260420T075711Z
LAST-MODIFIED:20260420T075737Z
UID:54188-1780146000-1780152300@www.taunus4family.de
SUMMARY:Conni - Das Musical
DESCRIPTION:Das Cocomico-Musical „Conni – Das Musical!“ geht wieder auf große Tournee\nund bringt die beliebte Kinderbuchheldin live auf die Bühne!\nConni hat Geburtstag – und das wird gefeiert! Spielen\, tanzen\, singen\, lachen\, backen und natürlich die weltbeste Schokotorte „Conni-Super-Selber-Spezial!“ – ein Tag voller Abenteuer\, Überraschungen und jeder Menge Spaß wartet auf Conni\, ihre Familie\, ihre Freunde und ihr Publikum. Doch wie immer läuft nicht alles ganz nach Plan … Zum Glück kann Conni auf die Hilfe ihrer Eltern\, ihres kleinen Bruders Jakob\, ihres Katers Mau – und natürlich der Kinder im Publikum zählen! \nGanz nach dem Motto „Was Conni kann – das könnt ihr auch!“ werden die Zuschauer aktiv in die Geschichte eingebunden und dürfen gemeinsam mit Conni dafür sorgen\, dass ihre Geburtstagsfeier zu einem unvergesslichen Erlebnis wird. Das Ergebnis: ein fröhliches Mitmach-Musical voller Musik\, Humor und Herz – zum Mitsingen\, Mitlachen und Mitfiebern. \nMit liebevoll inszenierten Szenen\, schwungvollen Liedern und viel Charme begeistert das Musical Kinder und Erwachsene gleichermaßen. Conni\, die seit über drei Jahrzehnten als treue Wegbegleiterin vieler junger Fans gilt\, zeigt auch auf der Bühne\, dass man mit Freundschaft\, Mut und Zuversicht alles schaffen kann. \nDas Erfolgs-Musical des Cocomico Theaters\, aufgeführt von der Kammeroper Köln\, ist ein Highlight für die ganze Familie. Bereits über 800.000 Besucherinnen und Besucher ließen sich vom Charme der kleinen Heldin verzaubern. Die Presse jubelt: „Großes Theater für kleine Leute!“ – „Riesenapplaus von begeisterten Kids!“ \nDauer: ca. 105 Minuten (inkl. Pause)Altersempfehlung: ab 3 Jahren \n  \nKartenpreise\nPreis: 27\,80 € – 35\,85 € (inklusive Vorverkaufsgebühr) \nKartenvorverkauf\nTickets per Klick:„Print your Ticket“ das Onlinesystem auf www.s-promotion.de – Tickets bequem zu Hause buchen und sofort ausdrucken! \nTickethotline: 06073 – 722 740 \n…außerdem an allen bekannten Vorverkaufsstellen.
URL:https://www.taunus4family.de/veranstaltung/conni-das-musical/
LOCATION:Stadthalle Oberursel\, Rathausplatz 2\, Oberursel/Ts\, 61440
CATEGORIES:Theater und Bühnen
ATTACH;FMTTYPE=image/jpeg:https://www.taunus4family.de/wp-content/uploads/2026/04/250928_Conni-Musical_©Cocomico-deHaar_DSC7844.jpg
ORGANIZER;CN="S-PROMOTION%20Event%20GmbH":MAILTO:info@s-promotion.de
GEO:50.1882384;8.5929737
X-APPLE-STRUCTURED-LOCATION;VALUE=URI;X-ADDRESS=Stadthalle Oberursel Rathausplatz 2 Oberursel/Ts 61440;X-APPLE-RADIUS=500;X-TITLE=Rathausplatz 2:geo:8.5929737,50.1882384
END:VEVENT
END:VCALENDAR