BEGIN:VCALENDAR
VERSION:2.0
PRODID:-//taunus4family - ECPv5.14.1//NONSGML v1.0//EN
CALSCALE:GREGORIAN
METHOD:PUBLISH
X-WR-CALNAME:taunus4family
X-ORIGINAL-URL:https://www.taunus4family.de
X-WR-CALDESC:Veranstaltungen für taunus4family
BEGIN:VTIMEZONE
TZID:Europe/Helsinki
BEGIN:DAYLIGHT
TZOFFSETFROM:+0200
TZOFFSETTO:+0300
TZNAME:EEST
DTSTART:20250330T010000
END:DAYLIGHT
BEGIN:STANDARD
TZOFFSETFROM:+0300
TZOFFSETTO:+0200
TZNAME:EET
DTSTART:20251026T010000
END:STANDARD
END:VTIMEZONE
BEGIN:VEVENT
DTSTART;TZID=Europe/Helsinki:20250215T140000
DTEND;TZID=Europe/Helsinki:20250215T160000
DTSTAMP:20260425T003342
CREATED:20241208T195058Z
LAST-MODIFIED:20241208T195058Z
UID:49721-1739628000-1739635200@www.taunus4family.de
SUMMARY:*** COOL KIDS *** sortierter Basar rund ums Schulkind!
DESCRIPTION:*** COOL KIDS *** sortierter Basar rund ums Schulkind! \n• Kinderbekleidung Frühling / Sommer Gr. 122 bis 176\n• Schuhe ab Größe 28\n• Kinderspielzeug\, Bücher\, CDs / DVDs etc. (für Grundschulkinder)\n• Schulranzen / Zubehör\, Rucksäcke etc.\n• Roller\, Fahrräder\, Skateboards\, Waveboard\, Inliner etc. \nKuchen- und Snackverkauf \nNummernvergabe: ab 24.01.2025 ab 0:00 Uhr durch eine E-Mail: BasarBZSteinbach@web.de mit Ihrem Namen und einer Telefonnummer (Der Zeitpunkt des E-Mail-Eingangs an diesem Tag entscheidet\, ohne Telefonnummer keine Nummernvergabe\, EMails vor diesem Datum werden nachrangig behandelt). \nTeilnahmegebühr 5 Euro plus 15% vom Umsatz \nBetreuungszentrum Geschwister-Scholl-Schule Hessenring 35 in 61449 Steinbach\n15.02.2025 von 14:00-16:00 Uhr
URL:https://www.taunus4family.de/veranstaltung/cool-kids-sortierter-basar-rund-ums-schulkind-2/
LOCATION:Betreuungszentrum Geschwister-Scholl-Schule\, Hessenring 35\, Steinbach\, 61449
CATEGORIES:Basare und Flohmärkte
ATTACH;FMTTYPE=image/jpeg:https://www.taunus4family.de/wp-content/uploads/2024/12/CoolKidsBild.jpg
ORGANIZER;CN="F%26ouml%3Brderverein%20Betreuungszentrum%20der%20GSS":MAILTO:BasarBZSteinbach@web.de
END:VEVENT
END:VCALENDAR