BEGIN:VCALENDAR
VERSION:2.0
PRODID:-//taunus4family - ECPv5.14.1//NONSGML v1.0//EN
CALSCALE:GREGORIAN
METHOD:PUBLISH
X-WR-CALNAME:taunus4family
X-ORIGINAL-URL:https://www.taunus4family.de
X-WR-CALDESC:Veranstaltungen für taunus4family
BEGIN:VTIMEZONE
TZID:Europe/Helsinki
BEGIN:DAYLIGHT
TZOFFSETFROM:+0200
TZOFFSETTO:+0300
TZNAME:EEST
DTSTART:20250330T010000
END:DAYLIGHT
BEGIN:STANDARD
TZOFFSETFROM:+0300
TZOFFSETTO:+0200
TZNAME:EET
DTSTART:20251026T010000
END:STANDARD
END:VTIMEZONE
BEGIN:VEVENT
DTSTART;TZID=Europe/Helsinki:20250509T180000
DTEND;TZID=Europe/Helsinki:20250511T220000
DTSTAMP:20260422T152455
CREATED:20250331T145248Z
LAST-MODIFIED:20250429T080551Z
UID:50770-1746813600-1747000800@www.taunus4family.de
SUMMARY:"de-symphonic" - Ton- und Lichtinstallation auf der Burg Königstein
DESCRIPTION:Ludwig van Beethovens 6. Sinfonie »Pastorale« als Wald aus Klängen\nBeethoven liebte die Natur und ließ sich von Vogelgesängen inspirieren. Nun ist seine Pastorale Teil einer Installation in der Natur geworden. Der Kulturfonds Frankfurt RheinMain hat das Schwerpunktthema „Wald? Wald!“ ausgerufen und Projektpartner*innen eingeladen die waldreiche Region künstlerisch zu bespielen. \nHoch über der Stadt erhebt sich die imposante Burg Königstein\, ein Wahrzeichen mit jahrhundertealter Geschichte. Die Burg verwandelt sich am zweiten Mai-Wochenende\, vom 9. bis 11. Mai jeweils von 18 bis 23 Uhr\, in eine eindrucksvolle Bühne für eine atmosphärische Licht- und Klanginstallation. Leuchtende Lichtbänder durchziehen das Gelände\, während wolkenartige Formationen sich zu faszinierenden Clustern verdichten. Die multimediale Installation „de-symphonic“ von Werner Cee basiert auf Beethovens 6. Symphonie\, der „Pastorale“\, und verbindet deren romantischen Klangfarben mit zeitgenössischer Interpretation. Besucherinnen und Besucher sind eingeladen\, die verschlungenen Wege rund um die Burg zunächst im Tageslicht zu erkunden und anschließend das allmähliche Aufleuchten der Lichtkunst in der hereinbrechenden Dunkelheit zu erleben. \nIm Auftrag des Kulturfonds hat Werner Cee sein ursprünglich für das Beethoven-Jubiläum 2020 entwickeltes Werk speziell für die Taunus-Burgen Kronberg\, Eppstein und Königstein neu konzipiert. Nach den erfolgreichen Installationen auf Burg Kronberg und Burg Eppstein wird auf Burg Königstein nun eine völlig neue Interpretation zu sehen und zu hören sein. \nde-symphonic wird ermöglicht durch die Stadt Königstein\, den Kulturfonds Frankfurt RheinMain\, den Hochtaunuskreis und die Taunus Sparkasse. \n  \nÖffnungszeiten \n9.–11. Mai\, 18 bis 23 Uhr \nTägliche Führung um 20 Uhr \nEintritt: 10 Euro\, bis 14 Jahre frei \nKarten erhältlich bei: \n\nTicketportal www.reservix.de\nKur- und Stadtinformation\noder an der Abendkasse\n\n 
URL:https://www.taunus4family.de/veranstaltung/de-symphonic-multimedia-show-wald-wald/
LOCATION:Burgruine Königstein\, Burgweg\, Königstein im Taunus\, 61462\, Deutschland
CATEGORIES:Kunst und Kultur
ATTACH;FMTTYPE=image/jpeg:https://www.taunus4family.de/wp-content/uploads/2025/03/Unbenannt-3.jpg
ORGANIZER;CN="Magistrat%20der%20Stadt%20K%C3%B6nigstein":MAILTO:info@koenigstein.de
GEO:50.1823112;8.4631879
X-APPLE-STRUCTURED-LOCATION;VALUE=URI;X-ADDRESS=Burgruine Königstein Burgweg Königstein im Taunus 61462 Deutschland;X-APPLE-RADIUS=500;X-TITLE=Burgweg:geo:8.4631879,50.1823112
END:VEVENT
END:VCALENDAR