BEGIN:VCALENDAR
VERSION:2.0
PRODID:-//taunus4family - ECPv5.14.1//NONSGML v1.0//EN
CALSCALE:GREGORIAN
METHOD:PUBLISH
X-WR-CALNAME:taunus4family
X-ORIGINAL-URL:https://www.taunus4family.de
X-WR-CALDESC:Veranstaltungen für taunus4family
BEGIN:VTIMEZONE
TZID:Europe/Helsinki
BEGIN:DAYLIGHT
TZOFFSETFROM:+0200
TZOFFSETTO:+0300
TZNAME:EEST
DTSTART:20240331T010000
END:DAYLIGHT
BEGIN:STANDARD
TZOFFSETFROM:+0300
TZOFFSETTO:+0200
TZNAME:EET
DTSTART:20241027T010000
END:STANDARD
END:VTIMEZONE
BEGIN:VEVENT
DTSTART;TZID=Europe/Helsinki:20240511T100000
DTEND;TZID=Europe/Helsinki:20240511T123000
DTSTAMP:20260420T100521
CREATED:20240227T151350Z
LAST-MODIFIED:20240227T151545Z
UID:47488-1715421600-1715430600@www.taunus4family.de
SUMMARY:Der gestiefelte Kater...
DESCRIPTION:…oder warum ein Kater erster Minister wurde\n  \nNach dem Tod seines Vaters erbte ein Müllersohn einen Kater\, den er zunächst nicht zu schätzen wusste. „Hör mal!“ begann der Kater\, der alles mitbekommen hatte. „Lass mir ein Paar Stiefel machen\, dann wird dir bald geholfen sein!“\nDie Abenteuer dieser ungewöhnlichen Freunde stehen im Mittelpunkt unseres Märchens. Warum der Sohn am Ende die Prinzessin heiratete und König wurde\, und warum der Kater sein erster Minister wurde\, möchten wir gemeinsam auf unserer Burg mit Spiel und Tanz erleben. \nDie Veranstaltung richtet sich an Kinder im Alter von 5-8 Jahren (ohne Begleitung). \nEine Anmeldung ist erforderlich und kann per E-Mail an kinder@burgkronberg.de erfolgen. Preise: Kinder 10 EUR \n  \n 
URL:https://www.taunus4family.de/veranstaltung/der-gestiefelte-kater/
LOCATION:Burg Kronberg\, Schlossstraße 10/12\, Kronberg im Taunus\, 61476\, Deutschland
CATEGORIES:Theater und Bühnen
ATTACH;FMTTYPE=image/jpeg:https://www.taunus4family.de/wp-content/uploads/2024/02/burg-kronberg.jpg
ORGANIZER;CN="Stiftung%20Burg%20Kronberg%20im%20Taunus":MAILTO:stiftung@burgkronberg.de
GEO:50.18119;8.50723
X-APPLE-STRUCTURED-LOCATION;VALUE=URI;X-ADDRESS=Burg Kronberg Schlossstraße 10/12 Kronberg im Taunus 61476 Deutschland;X-APPLE-RADIUS=500;X-TITLE=Schlossstraße 10/12:geo:8.50723,50.18119
END:VEVENT
END:VCALENDAR