BEGIN:VCALENDAR
VERSION:2.0
PRODID:-//taunus4family - ECPv5.14.1//NONSGML v1.0//EN
CALSCALE:GREGORIAN
METHOD:PUBLISH
X-WR-CALNAME:taunus4family
X-ORIGINAL-URL:https://www.taunus4family.de
X-WR-CALDESC:Veranstaltungen für taunus4family
BEGIN:VTIMEZONE
TZID:Europe/Helsinki
BEGIN:DAYLIGHT
TZOFFSETFROM:+0200
TZOFFSETTO:+0300
TZNAME:EEST
DTSTART:20240331T010000
END:DAYLIGHT
BEGIN:STANDARD
TZOFFSETFROM:+0300
TZOFFSETTO:+0200
TZNAME:EET
DTSTART:20241027T010000
END:STANDARD
END:VTIMEZONE
BEGIN:VEVENT
DTSTART;TZID=Europe/Helsinki:20241107T150000
DTEND;TZID=Europe/Helsinki:20241107T160000
DTSTAMP:20260423T195208
CREATED:20240715T183325Z
LAST-MODIFIED:20240715T184255Z
UID:48652-1730991600-1730995200@www.taunus4family.de
SUMMARY:Der Kinderfilm "Mary Poppins" im Rahmen der Mendelssohn Tage 2024
DESCRIPTION:Die alljährlichen „Mendelssohn Tage der Musik“ verwandeln Bad Soden in eine Musikstadt und ein Festival der Sinne. Mit Konzerten\, Literatur und immer neuen Ideen werden unser „local hero“ Felix Mendelssohn Bartholdy sowie andere große Komponisten gefeiert. Besonders Musiker aus der Region erhalten eine Bühne\, und es wird ein vielfältiges Programm für alle Generationen angeboten. Über das Jahr hinweg laden Kammermusikkonzerte in den beiden evangelischen Gemeindesälen dazu ein\, klassische Musik zu entdecken und zu genießen. \n\n\n\n\nDer Musicalfilm: Mary Poppins\nDie Kinder Jane und Michael halten nichts von ordentlichen Kinderzimmern. Ebenso wenig mögen sie ihr Kindermädchen\, welches die Familie Banks und ihre herumtollenden Kinder fluchtartig verlässt. \nJane und Michael schreiben nun eine eigene Stellenanzeige: Ein fantastisches Kindermädchen\, mit Verständnis für Unordnung\, mit tollen Ideen und viel Humor für sofort gesucht. So landet eine junge Dame namens Mary Poppins mit einem Regenschirm vor der Haustür und das Abenteuer beginnt. \nDie Walt-Disney-Produktion von 1964 besticht auch nach so vielen Jahren noch immer durch die berühmten Melodien und seine bunten Bilder. Ein wahrer Film zum Träumen für Junge und Junggebliebene. \n  \nEintritt\nEintritt: € 3\,00 Erwachsene / € 1\,00 Kinder \nKartenvorverkauf ab 13. September 2024 \n– online unter www.musikstiftung.de\n– oder im Genusskontor\, Platz Rueil Malmaison 2\, Bad Soden am Taunus \nRestkarten können an der Abendkasse erworben werden. \n 
URL:https://www.taunus4family.de/veranstaltung/der-kinderfilm-mary-poppins-im-rahmen-der-mendelssohn-tage-2024/
LOCATION:Kino CasaBlanca\,\, Zum Quellenpark 2\, Bad Soden\, 65912
CATEGORIES:Musik und Konzerte
ATTACH;FMTTYPE=image/png:https://www.taunus4family.de/wp-content/uploads/2024/07/Screenshot-2024-07-15-203853.png
ORGANIZER;CN="Magistrat%20der%20Stadt%20Bad%20Soden%20am%20Taunus":MAILTO:info@bad-soden.de
GEO:50.1447431;8.5004077
X-APPLE-STRUCTURED-LOCATION;VALUE=URI;X-ADDRESS=Kino CasaBlanca Zum Quellenpark 2 Bad Soden 65912;X-APPLE-RADIUS=500;X-TITLE=Zum Quellenpark 2:geo:8.5004077,50.1447431
END:VEVENT
END:VCALENDAR