BEGIN:VCALENDAR
VERSION:2.0
PRODID:-//taunus4family - ECPv5.14.1//NONSGML v1.0//EN
CALSCALE:GREGORIAN
METHOD:PUBLISH
X-WR-CALNAME:taunus4family
X-ORIGINAL-URL:https://www.taunus4family.de
X-WR-CALDESC:Veranstaltungen für taunus4family
BEGIN:VTIMEZONE
TZID:Europe/Helsinki
BEGIN:DAYLIGHT
TZOFFSETFROM:+0200
TZOFFSETTO:+0300
TZNAME:EEST
DTSTART:20250330T010000
END:DAYLIGHT
BEGIN:STANDARD
TZOFFSETFROM:+0300
TZOFFSETTO:+0200
TZNAME:EET
DTSTART:20251026T010000
END:STANDARD
END:VTIMEZONE
BEGIN:VEVENT
DTSTART;TZID=Europe/Helsinki:20250205T200000
DTEND;TZID=Europe/Helsinki:20250205T223000
DTSTAMP:20260424T172025
CREATED:20250120T172746Z
LAST-MODIFIED:20250120T175035Z
UID:50024-1738785600-1738794600@www.taunus4family.de
SUMMARY:Der kleine Prinz - Das Musical
DESCRIPTION:„Man sieht nur mit dem Herzen gut. Das Wesentliche bleibt für die Augen unsichtbar.“ Diese unvergesslichen Worte wurden vor über 75 Jahren\, mitten im Zweiten Weltkrieg\, erstmals veröffentlicht. Antoine de Saint-Exupéry wollte mit Der kleine Prinz ein „Kinderbuch für Erwachsene“ schaffen – und schuf ein Werk voller Lebensweisheiten\, das bis heute auf vielen Nachttischen liegt. Gerade in unseren bewegten Zeiten hat die Botschaft dieses Klassikers nichts an Aktualität verloren. \nAus diesem Meisterwerk entstand ein farbenprächtiges und faszinierendes Musical\, das Herz und Seele gleichermaßen anspricht. Mit großartiger Musik\, beeindruckenden Spezialeffekten und viel Liebe zum Detail richtet sich die Inszenierung an das Kind im Erwachsenen – und berührt dabei auch die jungen Zuschauer. Dieses Musical ist ein Erlebnis für die ganze Familie! \nDie Inszenierung begeistert Zuschauer aller Generationen: Voller Emotionen\, visueller Überraschungen und lebhafter Unterhaltung vermittelt sie die zeitlosen Weisheiten des kleinen Prinzen. Eindrucksvolle Stimmen und zauberhafte Melodien wechseln sich ab mit dynamischen Tanzszenen und spektakulären Multimedia-Animationen. Die Darsteller erwecken die vertrauten Figuren – den Prinzen\, den Piloten\, die Rose\, den Fuchs und die Schlange – auf unvergessliche Weise zum Leben. \nDie mitreißende Musik von Deborah Sasson\, kombiniert mit Texten von Jochen Sautter\, wurde vom britischen Erfolgsmusiker Ryan Martin komplett neu orchestriert. Das Ergebnis ist ein musikalisches Meisterwerk\, das sowohl Kinder als auch Erwachsene verzaubert. \n🎥 Trailer ansehen: Hier klicken
URL:https://www.taunus4family.de/veranstaltung/der-kleine-prinz-das-musical-2/
LOCATION:Kurtheater im Kurhaus Bad Homburg\, Louisenstraße 58\, Bad Homburg v. d. Höhe\, 61348\, Deutschland
CATEGORIES:Theater und Bühnen
ATTACH;FMTTYPE=image/jpeg:https://www.taunus4family.de/wp-content/uploads/2025/01/der-kleine-prinz.jpg
GEO:50.22716;8.61671
X-APPLE-STRUCTURED-LOCATION;VALUE=URI;X-ADDRESS=Kurtheater im Kurhaus Bad Homburg Louisenstraße 58 Bad Homburg v. d. Höhe 61348 Deutschland;X-APPLE-RADIUS=500;X-TITLE=Louisenstraße 58:geo:8.61671,50.22716
END:VEVENT
END:VCALENDAR