BEGIN:VCALENDAR
VERSION:2.0
PRODID:-//taunus4family - ECPv5.14.1//NONSGML v1.0//EN
CALSCALE:GREGORIAN
METHOD:PUBLISH
X-WR-CALNAME:taunus4family
X-ORIGINAL-URL:https://www.taunus4family.de
X-WR-CALDESC:Veranstaltungen für taunus4family
BEGIN:VTIMEZONE
TZID:Europe/Helsinki
BEGIN:DAYLIGHT
TZOFFSETFROM:+0200
TZOFFSETTO:+0300
TZNAME:EEST
DTSTART:20250330T010000
END:DAYLIGHT
BEGIN:STANDARD
TZOFFSETFROM:+0300
TZOFFSETTO:+0200
TZNAME:EET
DTSTART:20251026T010000
END:STANDARD
END:VTIMEZONE
BEGIN:VEVENT
DTSTART;TZID=Europe/Helsinki:20250609T180000
DTEND;TZID=Europe/Helsinki:20250609T193000
DTSTAMP:20260420T003129
CREATED:20250521T091406Z
LAST-MODIFIED:20250521T091725Z
UID:51060-1749492000-1749497400@www.taunus4family.de
SUMMARY:Der Türmer vom Hexenturm - Abendliche Erlebnisführung in Idstein
DESCRIPTION:Nächtliche Stadtführung mit dem Türmer – Auf den Spuren vergangener Zeiten \nChristoph Friedrich Schwaebe\, der Türmer der Herrschaft\, begrüßt die Teilnehmenden dieser besonderen Stadtführung am eindrucksvollen Haus des Amtschreibers von Killing. Gemeinsam mit ihm erkunden Sie die engen Gassen und verborgenen Winkel der Altstadt – stets wachsam auf der Suche nach unliebsamen Gestalten\, offenem Licht oder verdächtigem Brandgeruch. Im Dienst der Sicherheit der Stadt begleiten Sie den Türmer auf seinem abendlichen Rundgang. \nDer Weg führt bis hinauf zum Hexenturm\, dessen Aufstieg mit einem stimmungsvollen Blick über die nächtliche Stadt belohnt wird – ein unvergessliches Erlebnis für Groß und Klein. \nTeilnahmeinformationen:Die Führung kostet 8\,00 € für Erwachsene und 3\,00 € für Kinder.Tickets sind während der Öffnungszeiten in der Tourist-Info Idstein im Killingerhaus erhältlich.Treffpunkt ist direkt vor der Tourist-Info. \nBitte beachten: Aufgrund der beengten Verhältnisse im Hexenturm ist die Teilnehmerzahl auf 25 Personen begrenzt.
URL:https://www.taunus4family.de/veranstaltung/der-tuermer-vom-hexenturm-abenteuerliche-erlebnisfuehrung-in-idstein/
LOCATION:Altstadt Idstein\, Killingerhaus\, Idstein\, 65510\, Deutschland
CATEGORIES:Weiterbildung und Information
ATTACH;FMTTYPE=image/jpeg:https://www.taunus4family.de/wp-content/uploads/2023/03/TuermerFotoStadtIdstein1-002.jpg
ORGANIZER;CN="Magistrat%20der%20%20Stadt%20Idstein":MAILTO:Birgit.Borchardt@idstein.de
GEO:50.2211201;8.2695713
X-APPLE-STRUCTURED-LOCATION;VALUE=URI;X-ADDRESS=Altstadt Idstein Killingerhaus Idstein 65510 Deutschland;X-APPLE-RADIUS=500;X-TITLE=Killingerhaus:geo:8.2695713,50.2211201
END:VEVENT
END:VCALENDAR