BEGIN:VCALENDAR
VERSION:2.0
PRODID:-//taunus4family - ECPv5.14.1//NONSGML v1.0//EN
CALSCALE:GREGORIAN
METHOD:PUBLISH
X-WR-CALNAME:taunus4family
X-ORIGINAL-URL:https://www.taunus4family.de
X-WR-CALDESC:Veranstaltungen für taunus4family
BEGIN:VTIMEZONE
TZID:Europe/Helsinki
BEGIN:DAYLIGHT
TZOFFSETFROM:+0200
TZOFFSETTO:+0300
TZNAME:EEST
DTSTART:20250330T010000
END:DAYLIGHT
BEGIN:STANDARD
TZOFFSETFROM:+0300
TZOFFSETTO:+0200
TZNAME:EET
DTSTART:20251026T010000
END:STANDARD
END:VTIMEZONE
BEGIN:VEVENT
DTSTART;TZID=Europe/Helsinki:20250126T150000
DTEND;TZID=Europe/Helsinki:20250126T170000
DTSTAMP:20260424T153425
CREATED:20241030T173248Z
LAST-MODIFIED:20241030T175114Z
UID:49544-1737903600-1737910800@www.taunus4family.de
SUMMARY:Die Schneekönigin – Das Familienmusical
DESCRIPTION:Bald ist es soweit: „Die Schneekönigin – Das Musical für die ganze Familie“ wird im Dezember 2024 zum 13. Mal auf Deutschlandtournee gehen. \nDie Geschichte\nAn einem kalten Wintertag\, an dem der Schnee besonders dicht fällt\, bekommt Kai Besuch von der Schneekönigin. Ihre seelenlose Kälte bemächtigt sich seines Herzens und sie verschleppt ihn\nin ihr eiskaltes Reich. Doch die Schneekönigin hat nicht mit der mutigen Gerda gerechnet\, die nichts unversucht lässt\, um ihren Liebsten Kai zu finden. Eine abenteuerliche\, zauberhafte und\ngefährliche Reise liegt vor ihr\, die sie zum verwunschenen Frühlingsgarten\, auf das Fest der Sommerprinzessin und in den Herbststürmen in die Hände einer Räuberbande führt\, bis sie\nendlich den eisigen Palast der Schneekönigin erreicht. Ob es Gerda gelingt\, Kai zu retten\, erfahren Sie in der immer wieder berührenden Geschichte der Schneekönigin mit eingehender\,\nwunderbarer Musik. \nModernes Märchen zum Dahinschmelzen\nDie faszinierende Geschichte der Schneekönigin – präsentiert von einem spielfreudigen Ensemble mit 8 Künstlerinnen und Künstlern – ist seit 2012 erfolgreich auf Deutschland-Tournee und\nbezaubert Kinder\, Kind gebliebene und Märchenfreunde ungebrochen. Eingängige Songs\, witzige Dialoge\, berührende Szenen\, Choreografien zum Nachmachen und effektvolles Lichtdesign beeindrucken in einer geradlinigen\, liebevollen Inszenierung. Lassen Sie sich in die zauberhafte Welt des Märchens entführen. \nInformationen und Tickets: \nDas Musical hat eine Gesamtdauer von 110 Minuten inklusive einer 20-minütigen Pause\, und ist für Zuschauer ab fünf Jahren geeignet. \nZu den Tickets geht’s hier!
URL:https://www.taunus4family.de/veranstaltung/die-schneekoenigin-das-familienmusical/
LOCATION:Kurtheater im Kurhaus Bad Homburg\, Louisenstraße 58\, Bad Homburg v. d. Höhe\, 61348\, Deutschland
CATEGORIES:Theater und Bühnen
ATTACH;FMTTYPE=image/jpeg:https://www.taunus4family.de/wp-content/uploads/2024/10/Pressefoto-Schneekoenigin-e1730310473564.jpg
ORGANIZER;CN="Bella-Donna-Production":MAILTO:info@schneekoenigin-musical.de
GEO:50.22716;8.61671
X-APPLE-STRUCTURED-LOCATION;VALUE=URI;X-ADDRESS=Kurtheater im Kurhaus Bad Homburg Louisenstraße 58 Bad Homburg v. d. Höhe 61348 Deutschland;X-APPLE-RADIUS=500;X-TITLE=Louisenstraße 58:geo:8.61671,50.22716
END:VEVENT
END:VCALENDAR