BEGIN:VCALENDAR
VERSION:2.0
PRODID:-//taunus4family - ECPv5.14.1//NONSGML v1.0//EN
CALSCALE:GREGORIAN
METHOD:PUBLISH
X-WR-CALNAME:taunus4family
X-ORIGINAL-URL:https://www.taunus4family.de
X-WR-CALDESC:Veranstaltungen für taunus4family
BEGIN:VTIMEZONE
TZID:Europe/Helsinki
BEGIN:DAYLIGHT
TZOFFSETFROM:+0200
TZOFFSETTO:+0300
TZNAME:EEST
DTSTART:20250330T010000
END:DAYLIGHT
BEGIN:STANDARD
TZOFFSETFROM:+0300
TZOFFSETTO:+0200
TZNAME:EET
DTSTART:20251026T010000
END:STANDARD
END:VTIMEZONE
BEGIN:VEVENT
DTSTART;TZID=Europe/Helsinki:20251218T160000
DTEND;TZID=Europe/Helsinki:20251218T180000
DTSTAMP:20260419T162627
CREATED:20251110T095116Z
LAST-MODIFIED:20251205T081330Z
UID:52626-1766073600-1766080800@www.taunus4family.de
SUMMARY:'Die Schöne und das Biest' - Musical
DESCRIPTION:Am Donnerstag\, den 18. Dezember 2025\, um 16:00 Uhr verwandelt sich die Stadthalle in Hofheim in eine Bühne voller Magie und Emotionen: Das Theater Liberi bringt das weltbekannte französische Volksmärchen „Die Schöne und das Biest“ als modernes\, farbenfrohes Musical auf die Bühne – ein Erlebnis für die ganze Familie. Mit gefühlvollen Eigenkompositionen\, eindrucksvollen Kostümen und energiegeladenen Choreografien entsteht ein zauberhaftes Live-Erlebnis\, das Kinder ab vier Jahren ebenso begeistert wie Eltern und Großeltern. \nDie wohl schönste Liebesgeschichte aller Zeiten\nSeit Generationen erzählt man sich die Geschichte von Belle und dem verzauberten Prinzen\, dessen wahres Wesen sich erst zeigt\, als Liebe und Vertrauen stärker werden als Angst und Vorurteil. Die emotionale Inszenierung des Autors Helge Fedder verbindet klassische Märchenelemente mit Humor\, Leichtigkeit und einer klaren Botschaft: Es sind die inneren Werte\, die zählen. \nHauptdarstellerin Asya Pritchard verkörpert Belle als mutige junge Frau\, die den Dingen auf den Grund geht und hinter die Fassade blickt. Die eigens komponierte Musik von Christoph Kloppenburg und Hans Christian Becker führt durch eine klangvolle Welt\, in der Pop auf Rock\, Chanson auf Folklore und Jazz auf Schlager trifft – mal verträumt\, mal schwungvoll\, immer mit einem Augenzwinkern. \nDas Musical dauert rund zwei Stunden inklusive Pause und eignet sich für Kinder ab vier Jahren.Tickets sind ab 27\,- Euro erhältlich\, Kinder bis 14 Jahre erhalten 2\,- Euro Ermäßigung.Karten gibt es online unter www.theater-liberi.de \n\nWir verlosen Freikarten! Einfach eine Mail an uns mit Euren Kontaktdaten :)
URL:https://www.taunus4family.de/veranstaltung/die-schoene-und-das-biest-musical-2/
LOCATION:Stadthalle Hofheim\, Chinonplatz 4\, Hofheim am Taunus\, 65719\, Deutschland
CATEGORIES:Theater und Bühnen
ATTACH;FMTTYPE=image/jpeg:https://www.taunus4family.de/wp-content/uploads/2025/11/schoene-und-das-biest-musical-plakat-quer-1920x1080px-theater-liberi-kai-wienen.jpg
ORGANIZER;CN="Theater%20Liberi":MAILTO:info@theater-liberi.de
GEO:50.0853899;8.4479742
X-APPLE-STRUCTURED-LOCATION;VALUE=URI;X-ADDRESS=Stadthalle Hofheim Chinonplatz 4 Hofheim am Taunus 65719 Deutschland;X-APPLE-RADIUS=500;X-TITLE=Chinonplatz 4:geo:8.4479742,50.0853899
END:VEVENT
END:VCALENDAR