BEGIN:VCALENDAR
VERSION:2.0
PRODID:-//taunus4family - ECPv5.14.1//NONSGML v1.0//EN
CALSCALE:GREGORIAN
METHOD:PUBLISH
X-WR-CALNAME:taunus4family
X-ORIGINAL-URL:https://www.taunus4family.de
X-WR-CALDESC:Veranstaltungen für taunus4family
BEGIN:VTIMEZONE
TZID:Europe/Helsinki
BEGIN:DAYLIGHT
TZOFFSETFROM:+0200
TZOFFSETTO:+0300
TZNAME:EEST
DTSTART:20240331T010000
END:DAYLIGHT
BEGIN:STANDARD
TZOFFSETFROM:+0300
TZOFFSETTO:+0200
TZNAME:EET
DTSTART:20241027T010000
END:STANDARD
END:VTIMEZONE
BEGIN:VEVENT
DTSTART;TZID=Europe/Helsinki:20240317T110000
DTEND;TZID=Europe/Helsinki:20240317T123000
DTSTAMP:20260420T062610
CREATED:20240130T110232Z
LAST-MODIFIED:20240130T110232Z
UID:47199-1710673200-1710678600@www.taunus4family.de
SUMMARY:Entdeckertour am UNESCO Welterbe Limes
DESCRIPTION:Rund um das ehemalige römische Kastell Zugmantel am Limes mit anschließender Turmöffnung \nBegebt Euch auf eine informative und unterhaltsame Wanderung von etwa 1\,5-2 Stunden entlang des UNESCO-Welterbes Limes\, rund um das ehemalige Kastell Zugmantel. Erfahrt mehr über die faszinierende Geschichte dieser Region durch die fachkundige Führung von Limes-Cicerona Dagmar B.-Muhr. Taucht ein während der Wanderung ein in die Arbeits- und Lebenswelt\, die hier am Limes vor etwa 2000 Jahren existierte. \nDie Zeitreise wird lebendig\, während Ihr die Spuren der Vergangenheit erkundet und die Geschichte des Limes entdecket. Im Anschluss an die Führung habt Ihr die Möglichkeit\, den Wachtturm zu besichtigen und weitere Einblicke in die faszinierende Welt dieser historischen Stätte zu gewinnen. Erlebt die Geschichte hautnah und lasst Euch von der Expertise von Dagmar B.-Muhr durch diese einzigartige Reise in die Vergangenheit führen. \n\n\n\n  \nTreffpunkt\nWanderparkplatz Kastell Zugmantel\n65232 Taunusstein \nHinweis zum Treffpunkt:\nLimestafeln am Parkplatz gegenüber Waffel Löser Sportplatz Taunusstein-Orlen \n\n\n\n  \nTeilnahmegebühr:\nErwachsene: 10\,00 €\nJugendliche (13-17 Jahre): 5\,00 €\nKinder (0-12 Jahre): kostenfrei \nAnmeldung:\nper E-Mail an: npf-benischke-muhr@naturpark-rhein-taunus.de
URL:https://www.taunus4family.de/veranstaltung/entdeckertour-am-unesco-welterbe-limes/
LOCATION:Wanderparkplatz Kastell Zugmantel\, Taunusstein\, 65232 \, Deutschland
CATEGORIES:Kunst und Kultur,Natur und Tiere
ATTACH;FMTTYPE=image/jpeg:https://www.taunus4family.de/wp-content/uploads/2024/01/Unbenannt-4.jpg
ORGANIZER;CN="Zweckverband%20Naturpark%20Taunus":MAILTO:info@naturpark-taunus.de
GEO:50.1541817;8.1659665
END:VEVENT
END:VCALENDAR